Workbook
Name BDI: 1+(INDEX(#REF!,ROW())/100)
Name ContraPart1: #REF!-SUMIF(#REF!,">=0",#REF!)
Name ContraPart2: MAX(#REF!-SUM(#REF!),0)
Name Item: INDEX(#REF!,ROW())
Name ListaNomes: #REF!
Name Macroitem: INDEX(#REF!,ROW())
Name Macroitem1: INDEX(#REF!,ROW())
Name Macroitem2: INDEX(#REF!,ROW())
Name Macroitem3: INDEX(#REF!,ROW())
Name MacroitemAc: INDEX(#REF!,ROW())
Name MacroitemPer: INDEX(#REF!,ROW())
Name MacroitemRet: INDEX(#REF!,ROW())
Name matriz: #REF!
Name matriz2: #REF!
Name Medicao1: INDEX(#REF!,ROW())
Name Quantidade: INDEX(#REF!,ROW())
Name Quantidade1: INDEX(#REF!,ROW())
Name Quantidade2: INDEX(#REF!,ROW())
Name Quantidade3: INDEX(#REF!,ROW())
Name QuantidadeAc: SUM(OFFSET([0]!Medicao1,0,0,1,#REF!))
Name QuantidadePeriodo: INDEX([0]!TabMedicao,ROW(),#REF!)
Name Registro: IF(INDIRECT(ADDRESS(ROW()-1,COLUMN()))=#REF!,#REF!,IF(INDIRECT(ADDRESS(ROW()-1,COLUMN()))=#REF!,#REF!,IF(INDIRECT(ADDRESS(ROW()-1,COLUMN()))=#REF!,#REF!,"")))
Name ResParcial: OFFSET([0]!Subitem,0,0,MATCH(VLOOKUP("Macroitem",[0]!TabAux,1,FALSE),[0]!TabAux,0),1)
Name ResParcial1: OFFSET([0]!Subitem1,0,0,MATCH(VLOOKUP("Macroitem",[0]!TabAux,1,FALSE),[0]!TabAux,0),1)
Name ResParcial2: OFFSET([0]!Subitem2,0,0,MATCH(VLOOKUP("Macroitem",[0]!TabAux,1,FALSE),[0]!TabAux,0),1)
Name ResParcial3: OFFSET([0]!Subitem3,0,0,MATCH(VLOOKUP("Macroitem",[0]!TabAux,1,FALSE),[0]!TabAux,0),1)
Name ResParcialAc: OFFSET([0]!SubitemAc,0,0,MATCH(VLOOKUP("Macroitem",[0]!TabAux,1,FALSE),[0]!TabAux,0),1)
Name ResParcialPer: OFFSET([0]!SubitemPer,0,0,MATCH(VLOOKUP("Macroitem",[0]!TabAux,1,FALSE),[0]!TabAux,0),1)
Name ResParcialRet: OFFSET([0]!SubitemRet,0,0,MATCH(VLOOKUP("Macroitem",[0]!TabAux,1,FALSE),[0]!TabAux,0),1)
Name Subitem: INDEX(#REF!,ROW())
Name Subitem1: INDEX(#REF!,ROW())
Name Subitem2: INDEX(#REF!,ROW())
Name Subitem3: INDEX(#REF!,ROW())
Name SubitemAc: INDEX(#REF!,ROW())
Name SubitemPer: INDEX(#REF!,ROW())
Name SubitemRet: INDEX(#REF!,ROW())
Name TabAux: #REF!
Name TabAuxRes: #REF!
Name TabMedicao: #REF!
Name TESTE: #REF!*#REF!
Name TotalQ1C2: [0]!Quantidade1*[0]!Unitario2
Name TotalQ2C1: [0]!Quantidade2*[0]!Unitario1
Name TotalQ2C2: [0]!Quantidade2*[0]!Unitario2
Name TotalSubitem1: [0]!Quantidade1*[0]!Unitario1
Name Unitario1: INDEX(#REF!,ROW())
Name Unitario2: INDEX(#REF!,ROW())

Sheet PLANILHA ORÇAMENTÁRIA
A1: PLANILHA QUANTITATIVA E ORÇAMENTÁRIA
A3: OBRA: | B3: CONTRATAÇÃO DE OBRAS DE PAVIMENTAÇÃO COM LAJOTAS DE CONCRETO NA RUA ANSELMO FENALI CREPALDI, ESTRADA URBANA MG-19 E RUA LUCIANO SPADER, COM EXTENSÃO TOTAL 528 METROS LINEARES.
A4: CE nº | B4: 10/2026/PMMG
A5: Valor Total: | B5: =G132 -> 0
A6: Razão Social: | B6: XXXXXXXXXXXXXXXXX
A7: CNPJ/MF: | B7: 0
A9: ITEM | B9: FONTE | C9: ITENS DE SERVIÇO | D9: Unidade | E9: Quantidade | F9: Preço Unitário Com BDI (R$) | G9: Preço Total Com BDI (R$) | H9: %
A11: 1 | B11: PAVIMENTAÇÃO RUA ANSELMO FENALI
A12: 1.1 | B12: SERVIÇOS INICIAIS
A13: 1.1.1 | B13: SINAPI 103689 | C13: FORNECIMENTO E INSTALAÇÃO DE PLACA DE OBRA COM CHAPA GALVANIZADA E ESTRUTURA DE MADEIRA. AF_03/2022_PS | D13: M2 | E13: 4.5 | G13: =ROUND((E13*F13),2) -> 0 | H13: =G13*100/$G$132 -> #DIV/0!
A14: TOTAL DO ITEM | G14: =SUM(G13:G13) -> 0 | H14: =G14*100/$G$132 -> #DIV/0!
A16: 1.2 | B16: TERRAPLANAGEM
A17: 1.2.1 | B17: SINAPI 101237 | C17: ESCAVAÇÃO VERTICAL PARA INFRAESTRUTURA, COM CARGA, DESCARGA E TRANSPORTE DE SOLO DE 1ª CATEGORIA, COM ESCAVADEIRA HIDRÁULICA (CAÇAMBA: 0,8 M³ / 111HP), FROTA DE 6 CAMINHÕES BASCULANTES DE 14 M³, DMT DE 4 KM E VELOCIDADE MÉDIA 22 KM/H. AF_05/2020 | D17: M3 | E17: 168.15 | G17: =ROUND((E17*F17),2) -> 0 | H17: =G17*100/$G$132 -> #DIV/0!
A18: 1.2.2 | B18: SINAPI 105560 | C18: EXECUÇÃO E COMPACTAÇÃO DE CAMADA FINAL DE ATERRO (100% DE ENERGIA DO PROCTOR NORMAL) COM SOLO PREDOMINANTEMENTE ARGILOSO, EM CAMADAS COM ESPESSURA DE 20 CM - EXCLUSIVE ESCAVAÇÃO, CARGA E TRANSPORTE E SOLO. AF_09/2024 | D18: M3 | E18: 47.45 | G18: =ROUND((E18*F18),2) -> 0 | H18: =G18*100/$G$132 -> #DIV/0!
A19: TOTAL DO ITEM | G19: =SUM(G17:G18) -> 0 | H19: =G19*100/$G$132 -> #DIV/0!
A21: 1.3 | B21: DRENAGEM PLUVIAL
A22: 1.3.1 | B22: SINAPI 102329 | C22: ESCAVAÇÃO MECANIZADA DE VALA COM PROF. MAIOR QUE 1,5 M ATÉ 3,0 M (MÉDIA MONTANTE E JUSANTE/UMA COMPOSIÇÃO POR TRECHO), RETROESCAV. (0,26 M3), LARG. DE 0,8 M A 1,5 M, EM SOLO DE 2A CATEGORIA, EM LOCAIS COM BAIXO NÍVEL DE INTERFERÊNCIA. AF_09/2024 | D22: M3 | E22: 122.53 | G22: =ROUND((E22*F22),2) -> 0 | H22: =G22*100/$G$132 -> #DIV/0!
A23: 1.3.2 | B23: SINAPI 104736 | C23: REATERRO MECANIZADO DE VALA COM RETROESCAVADEIRA (CAPACIDADE DA CAÇAMBA DA RETRO: 0,26 M³/POTÊNCIA: 88 HP), LARGURA DE 0,8 A 1,5 M, PROFUNDIDADE DE 1,5 A 3,0 M, COM SOLO (SEM SUBSTITUIÇÃO) DE 1ª CATEGORIA, COM PLACA VIBRATÓRIA. AF_08/2023 | D23: M3 | E23: 102.77 | G23: =ROUND((E23*F23),2) -> 0 | H23: =G23*100/$G$132 -> #DIV/0!
A24: 1.3.3 | B24: SINAPI 102713 | C24: GEOTÊXTIL NÃO TECIDO 100% POLIÉSTER, RESISTÊNCIA A TRAÇÃO DE 14 KN/M (RT - 14), INSTALADO EM DRENO - FORNECIMENTO E INSTALAÇÃO. AF_07/2021 | D24: M2 | E24: 87.01 | G24: =ROUND((E24*F24),2) -> 0 | H24: =G24*100/$G$132 -> #DIV/0!
A25: 1.3.4 | B25: SINAPI 92808 | C25: ASSENTAMENTO DE TUBO DE CONCRETO PARA REDES COLETORAS DE ÁGUAS PLUVIAIS, DIÂMETRO DE 300 MM, JUNTA RÍGIDA, INSTALADO EM LOCAL COM BAIXO NÍVEL DE INTERFERÊNCIAS (NÃO INCLUI FORNECIMENTO). AF_03/2024 | D25: M | E25: 20 | G25: =ROUND((E25*F25),2) -> 0 | H25: =G25*100/$G$132 -> #DIV/0!
A26: 1.3.5 | B26: SINAPI-I 37450 | C26: TUBO DE CONCRETO SIMPLES PARA AGUAS PLUVIAIS, CLASSE PS1, COM ENCAIXE MACHO E FEMEA, DIAMETRO NOMINAL DE 300 MM | D26: M | E26: 20 | G26: =ROUND((E26*F26),2) -> 0 | H26: =G26*100/$G$132 -> #DIV/0!
A27: 1.3.6 | B27: SINAPI 92821 | C27: ASSENTAMENTO DE TUBO DE CONCRETO PARA REDES COLETORAS DE ÁGUAS PLUVIAIS, DIÂMETRO DE 400 MM, JUNTA RÍGIDA, INSTALADO EM LOCAL COM ALTO NÍVEL DE INTERFERÊNCIAS (NÃO INCLUI FORNECIMENTO). AF_03/2024 | D27: M | E27: 98 | G27: =ROUND((E27*F27),2) -> 0 | H27: =G27*100/$G$132 -> #DIV/0!
A28: 1.3.7 | B28: SINAPI-I 37451 | C28: TUBO DE CONCRETO SIMPLES PARA AGUAS PLUVIAIS, CLASSE PS1, COM ENCAIXE MACHO E FEMEA, DIAMETRO NOMINAL DE 400 MM | D28: M | E28: 98 | G28: =ROUND((E28*F28),2) -> 0 | H28: =G28*100/$G$132 -> #DIV/0!
A29: 1.3.8 | B29: SINAPI 97956 | C29: CAIXA PARA BOCA DE LOBO SIMPLES RETANGULAR, EM ALVENARIA COM BLOCOS DE CONCRETO, DIMENSÕES INTERNAS: 0,6X1X1,2 M. AF_12/2020 | D29: UN | E29: 8 | G29: =ROUND((E29*F29),2) -> 0 | H29: =G29*100/$G$132 -> #DIV/0!
A30: 1.3.9 | B30: SINAPI 99264 | C30: CAIXA ENTERRADA HIDRÁULICA RETANGULAR, EM ALVENARIA COM BLOCOS DE CONCRETO, DIMENSÕES INTERNAS: 1X1X0,6 M PARA REDE DE DRENAGEM. AF_12/2020 | D30: UN | E30: 4 | G30: =ROUND((E30*F30),2) -> 0 | H30: =G30*100/$G$132 -> #DIV/0!
A31: 1.3.10 | B31: SINAPI 94273 | C31: ASSENTAMENTO DE GUIA (MEIO-FIO) EM TRECHO RETO, CONFECCIONADA EM CONCRETO PRÉ-FABRICADO, DIMENSÕES 100X15X13X30 CM (COMPRIMENTO X BASE INFERIOR X BASE SUPERIOR X ALTURA). AF_01/2024 | D31: M | E31: 518 | G31: =ROUND((E31*F31),2) -> 0 | H31: =G31*100/$G$132 -> #DIV/0!
A32: TOTAL DO ITEM | G32: =SUM(G22:G31) -> 0 | H32: =G32*100/$G$132 -> #DIV/0!
A34: 1.4 | B34: PAVIMENTAÇÃO
A35: 1.4.1 | B35: SINAPI 100576 | C35: REGULARIZAÇÃO E COMPACTAÇÃO DE SUBLEITO DE SOLO PREDOMINANTEMENTE ARGILOSO, PARA OBRAS DE CONSTRUÇÃO DE PAVIMENTOS. AF_09/2024 | D35: M2 | E35: 1311.53 | G35: =ROUND((E35*F35),2) -> 0 | H35: =G35*100/$G$132 -> #DIV/0!
A36: 1.4.2 | B36: Composição 2 | C36: CONSTRUÇÃO DE BASE E SUB-BASE PARA PAVIMENTAÇÃO DE BRITA GRADUADA SIMPLES, COM ESPESSURA DE 15 CM - EXCLUSIVE CARGA E TRANSPORTE. AF_09/2024 (REFERÊNCIA SINAPI 96396) | D36: M3 | E36: 196.73 | G36: =ROUND((E36*F36),2) -> 0 | H36: =G36*100/$G$132 -> #DIV/0!
A37: 1.4.3 | B37: SINAPI 95876 | C37: TRANSPORTE COM CAMINHÃO BASCULANTE DE 14 M³, EM VIA URBANA PAVIMENTADA, DMT ATÉ 30 KM (UNIDADE: M3XKM). AF_07/2020 | D37: M3XKM | E37: 295.1 | G37: =ROUND((E37*F37),2) -> 0 | H37: =G37*100/$G$132 -> #DIV/0!
A38: 1.4.4 | B38: SINAPI 92394 | C38: EXECUÇÃO DE PAVIMENTO EM PISO INTERTRAVADO, COM BLOCO SEXTAVADO DE 25 X 25 CM, ESPESSURA 8 CM. AF_10/2022 | D38: M2 | E38: 1311.53 | G38: =ROUND((E38*F38),2) -> 0 | H38: =G38*100/$G$132 -> #DIV/0!
A39: TOTAL DO ITEM | G39: =SUM(G35:G38) -> 0 | H39: =G39*100/$G$132 -> #DIV/0!
A41: 1.5 | B41: SINALIZAÇÃO
A42: 1.5.1 | B42: SINAPI 102501 | C42: PINTURA DE FAIXA DE PEDESTRE OU ZEBRADA COM TINTA ACRÍLICA, E = 30 CM, APLICAÇÃO MANUAL. AF_05/2021 | D42: M2 | E42: 18 | G42: =ROUND((E42*F42),2) -> 0 | H42: =G42*100/$G$132 -> #DIV/0!
A43: 1.5.2 | B43: SICRO 5213444 | C43: PLACA DE REGULAMENTAÇÃO EM AÇO, R1 LADO 0,248 M - PELÍCULA RETRORREFLETIVA TIPO I + SI - FORNECIMENTO E IMPLANTAÇÃO | D43: UN | E43: 1 | G43: =ROUND((E43*F43),2) -> 0 | H43: =G43*100/$G$132 -> #DIV/0!
A44: 1.5.3 | B44: SICRO 5213855 | C44: SUPORTE METÁLICO GALVANIZADO PARA PLACA DE REGULAMENTAÇÃO - R1 - LADO DE 0,248 M - FORNECIMENTO E IMPLANTAÇÃO | D44: UN | E44: 1 | G44: =ROUND((E44*F44),2) -> 0 | H44: =G44*100/$G$132 -> #DIV/0!
A45: 1.5.4 | B45: SICRO 5213440 | C45: PLACA DE REGULAMENTAÇÃO EM AÇO D = 0,60 M - PELÍCULA RETRORREFLETIVA TIPO I + SI - FORNECIMENTO E IMPLANTAÇÃO | D45: UN | E45: 4 | G45: =ROUND((E45*F45),2) -> 0 | H45: =G45*100/$G$132 -> #DIV/0!
A46: 1.5.5 | B46: SICRO 5213464 | C46: PLACA DE ADVERTÊNCIA EM AÇO, LADO DE 0,60 M - PELÍCULA RETRORREFLETIVA TIPO I + SI - FORNECIMENTO E IMPLANTAÇÃO | D46: UN | E46: 2 | G46: =ROUND((E46*F46),2) -> 0 | H46: =G46*100/$G$132 -> #DIV/0!
A47: 1.5.6 | B47: SICRO 5213863 | C47: SUPORTE METÁLICO GALVANIZADO PARA PLACA DE ADVERTÊNCIA OU REGULAMENTAÇÃO - LADO OU DIÂMETRO DE 0,60 M - FORNECIMENTO E IMPLANTAÇÃO | D47: UN | E47: 6 | G47: =ROUND((E47*F47),2) -> 0 | H47: =G47*100/$G$132 -> #DIV/0!
...

Sheet CRONOGRAMA FISCO-FINANCEIRO
A1: CRONOGRAMA FÍSICO-FINANCEIRO
A4: OBRA: | B4: ='PLANILHA ORÇAMENTÁRIA'!B3 -> CONTRATAÇÃO DE OBRAS DE PAVIMENTAÇÃO COM LAJOTAS DE CONCRETO NA RUA ANSELMO FENALI CREPALDI, ESTRADA URBANA MG-19 E RUA LUCIANO SPADER, COM EXTENSÃO TOTAL 528 METROS LINEARES.
A5: ='PLANILHA ORÇAMENTÁRIA'!A4 -> CE nº | B5: ='PLANILHA ORÇAMENTÁRIA'!B4 -> 10/2026/PMMG
A6: Valor Total: | B6: ='PLANILHA ORÇAMENTÁRIA'!B5 -> 0
A7: Razão Social: | B7: ='PLANILHA ORÇAMENTÁRIA'!B6 -> XXXXXXXXXXXXXXXXX
A8: CNPJ/MF: | B8: ='PLANILHA ORÇAMENTÁRIA'!B7 -> 0
A10: ITEM | B10: DISCRIMINAÇÃO | E10: PERÍODO EM MESES | M10: TOTAL
E11: MÊS 01 | G11: MÊS 02 | I11: MÊS 03 | K11: MÊS 04
E12: R$ | F12: % | G12: R$ | H12: % | I12: R$ | J12: % | K12: R$ | L12: % | M12: R$ | N12: %
A13: 1 | B13: ='PLANILHA ORÇAMENTÁRIA'!B11 -> PAVIMENTAÇÃO RUA ANSELMO FENALI | M13: =SUM(M14:M18) -> 0 | N13: =SUM(N14:N18) -> #DIV/0!
A14: 1.1 | B14: ='PLANILHA ORÇAMENTÁRIA'!B12 -> SERVIÇOS INICIAIS | E14: =($M$14*F14) -> 0 | F14: 1 | G14: =($M$14*H14) -> 0 | H14: 0 | I14: =($M$14*J14) -> 0 | J14: 0 | K14: =($M$14*L14) -> 0 | L14: 0 | M14: ='PLANILHA ORÇAMENTÁRIA'!G14 -> 0 | N14: =(M14*100)/'PLANILHA ORÇAMENTÁRIA'!$G$132 -> #DIV/0!
A15: 1.2 | B15: ='PLANILHA ORÇAMENTÁRIA'!B16 -> TERRAPLANAGEM | E15: =($M$15*F15) -> 0 | F15: 0 | G15: =($M$15*H15) -> 0 | H15: 1 | I15: =($M$15*J15) -> 0 | J15: 0 | K15: =($M$15*L15) -> 0 | L15: 0 | M15: ='PLANILHA ORÇAMENTÁRIA'!G19 -> 0 | N15: =(M15*100)/'PLANILHA ORÇAMENTÁRIA'!$G$132 -> #DIV/0!
A16: 1.3 | B16: ='PLANILHA ORÇAMENTÁRIA'!B21 -> DRENAGEM PLUVIAL | E16: =($M$16*F16) -> 0 | F16: 1 | G16: =($M$16*H16) -> 0 | H16: 0 | I16: =($M$16*J16) -> 0 | J16: 0 | K16: =($M$16*L16) -> 0 | L16: 0 | M16: ='PLANILHA ORÇAMENTÁRIA'!G32 -> 0 | N16: =(M16*100)/'PLANILHA ORÇAMENTÁRIA'!$G$132 -> #DIV/0!
A17: 1.4 | B17: ='PLANILHA ORÇAMENTÁRIA'!B34 -> PAVIMENTAÇÃO | E17: =($M$17*F17) -> 0 | F17: 0 | G17: =($M$17*H17) -> 0 | H17: 0 | I17: =($M$17*J17) -> 0 | J17: 0.5 | K17: =($M$17*L17) -> 0 | L17: 0.5 | M17: ='PLANILHA ORÇAMENTÁRIA'!G39 -> 0 | N17: =(M17*100)/'PLANILHA ORÇAMENTÁRIA'!$G$132 -> #DIV/0!
A18: 1.5 | B18: ='PLANILHA ORÇAMENTÁRIA'!B41 -> SINALIZAÇÃO | E18: =($M$18*F18) -> 0 | F18: 0 | G18: =($M$18*H18) -> 0 | H18: 0 | I18: =($M$18*J18) -> 0 | J18: 0 | K18: =($M$18*L18) -> 0 | L18: 1 | M18: ='PLANILHA ORÇAMENTÁRIA'!G49 -> 0 | N18: =(M18*100)/'PLANILHA ORÇAMENTÁRIA'!$G$132 -> #DIV/0!
A19: 2 | B19: ='PLANILHA ORÇAMENTÁRIA'!B52 -> PAVIMENTAÇÃO RUA LUCIANO SPADER | M19: =SUM(M20:M24) -> 0 | N19: =SUM(N20:N24) -> #DIV/0!
A20: 2.1 | B20: ='PLANILHA ORÇAMENTÁRIA'!B53 -> SERVIÇOS INICIAIS | E20: =($M$20*F20) -> 0 | F20: 1 | G20: =($M$20*H20) -> 0 | H20: 0 | I20: =($M$20*J20) -> 0 | J20: 0 | K20: =($M$20*L20) -> 0 | L20: 0 | M20: ='PLANILHA ORÇAMENTÁRIA'!G55 -> 0 | N20: =(M20*100)/'PLANILHA ORÇAMENTÁRIA'!$G$132 -> #DIV/0!
A21: 2.2 | B21: ='PLANILHA ORÇAMENTÁRIA'!B57 -> TERRAPLANAGEM | E21: =($M$21*F21) -> 0 | F21: 0 | G21: =($M$21*H21) -> 0 | H21: 1 | I21: =($M$21*J21) -> 0 | J21: 0 | K21: =($M$21*L21) -> 0 | L21: 0 | M21: ='PLANILHA ORÇAMENTÁRIA'!G59 -> 0 | N21: =(M21*100)/'PLANILHA ORÇAMENTÁRIA'!$G$132 -> #DIV/0!
A22: 2.3 | B22: ='PLANILHA ORÇAMENTÁRIA'!B61 -> DRENAGEM PLUVIAL | E22: =($M$22*F22) -> 0 | F22: 1 | G22: =($M$22*H22) -> 0 | H22: 0 | I22: =($M$22*J22) -> 0 | J22: 0 | K22: =($M$22*L22) -> 0 | L22: 0 | M22: ='PLANILHA ORÇAMENTÁRIA'!G72 -> 0 | N22: =(M22*100)/'PLANILHA ORÇAMENTÁRIA'!$G$132 -> #DIV/0!
A23: 2.4 | B23: ='PLANILHA ORÇAMENTÁRIA'!B74 -> PAVIMENTAÇÃO | E23: =($M$23*F23) -> 0 | F23: 0 | G23: =($M$23*H23) -> 0 | H23: 0 | I23: =($M$23*J23) -> 0 | J23: 0.5 | K23: =($M$23*L23) -> 0 | L23: 0.5 | M23: ='PLANILHA ORÇAMENTÁRIA'!G79 -> 0 | N23: =(M23*100)/'PLANILHA ORÇAMENTÁRIA'!$G$132 -> #DIV/0!
A24: 2.5 | B24: ='PLANILHA ORÇAMENTÁRIA'!B81 -> SINALIZAÇÃO | E24: =($M$24*F24) -> 0 | F24: 0 | G24: =($M$24*H24) -> 0 | H24: 0 | I24: =($M$24*J24) -> 0 | J24: 0 | K24: =($M$24*L24) -> 0 | L24: 1 | M24: ='PLANILHA ORÇAMENTÁRIA'!G89 -> 0 | N24: =(M24*100)/'PLANILHA ORÇAMENTÁRIA'!$G$132 -> #DIV/0!
A25: 3 | B25: ='PLANILHA ORÇAMENTÁRIA'!B92 -> ESTRADA MG 19 | M25: =SUM(M26:M30) -> 0 | N25: =SUM(N26:N30) -> #DIV/0!
A26: 3.1 | B26: ='PLANILHA ORÇAMENTÁRIA'!B93 -> SERVIÇOS INICIAIS | E26: =($M$26*F26) -> 0 | F26: 1 | G26: =($M$26*H26) -> 0 | H26: 0 | I26: =($M$26*J26) -> 0 | J26: 0 | K26: =($M$26*L26) -> 0 | L26: 0 | M26: ='PLANILHA ORÇAMENTÁRIA'!G95 -> 0 | N26: =(M26*100)/'PLANILHA ORÇAMENTÁRIA'!$G$132 -> #DIV/0!
A27: 3.2 | B27: ='PLANILHA ORÇAMENTÁRIA'!B97 -> TERRAPLANAGEM | E27: =($M$27*F27) -> 0 | F27: 0 | G27: =($M$27*H27) -> 0 | H27: 1 | I27: =($M$27*J27) -> 0 | J27: 0 | K27: =($M$27*L27) -> 0 | L27: 0 | M27: ='PLANILHA ORÇAMENTÁRIA'!G99 -> 0 | N27: =(M27*100)/'PLANILHA ORÇAMENTÁRIA'!$G$132 -> #DIV/0!
A28: 3.3 | B28: ='PLANILHA ORÇAMENTÁRIA'!B101 -> DRENAGEM PLUVIAL | E28: =($M$28*F28) -> 0 | F28: 1 | G28: =($M$28*H28) -> 0 | H28: 0 | I28: =($M$28*J28) -> 0 | J28: 0 | K28: =($M$28*L28) -> 0 | L28: 0 | M28: ='PLANILHA ORÇAMENTÁRIA'!G112 -> 0 | N28: =(M28*100)/'PLANILHA ORÇAMENTÁRIA'!$G$132 -> #DIV/0!
A29: 3.4 | B29: ='PLANILHA ORÇAMENTÁRIA'!B114 -> PAVIMENTAÇÃO | E29: =($M$29*F29) -> 0 | F29: 0 | G29: =($M$29*H29) -> 0 | H29: 0 | I29: =($M$29*J29) -> 0 | J29: 0.5 | K29: =($M$29*L29) -> 0 | L29: 0.5 | M29: ='PLANILHA ORÇAMENTÁRIA'!G119 -> 0 | N29: =(M29*100)/'PLANILHA ORÇAMENTÁRIA'!$G$132 -> #DIV/0!
A30: 3.5 | B30: ='PLANILHA ORÇAMENTÁRIA'!B121 -> SINALIZAÇÃO | E30: =($M$30*F30) -> 0 | F30: 0 | G30: =($M$30*H30) -> 0 | H30: 0 | I30: =($M$30*J30) -> 0 | J30: 0 | K30: =($M$30*L30) -> 0 | L30: 1 | M30: ='PLANILHA ORÇAMENTÁRIA'!G129 -> 0 | N30: =(M30*100)/'PLANILHA ORÇAMENTÁRIA'!$G$132 -> #DIV/0!
B31: VALOR DA OBRA | E31: =SUM(E14:E30) -> 0 | G31: =SUM(G14:G30) -> 0 | I31: =SUM(I14:I30) -> 0 | K31: =SUM(K14:K30) -> 0 | M31: =SUM(M14:M18,M20:M24,M26:M30) -> 0 | N31: =SUM(N14:N18,N20:N24,N26:N30) -> #DIV/0!
B32: VALOR ACUMULADO | E32: =E31 -> 0 | G32: =E32+G31 -> 0 | I32: =G32+I31 -> 0 | K32: =I32+K31 -> 0 | M32: =SUM(E31,G31,I31,K31,) -> 0
B33: PERCENTUAL DA OBRA | E33: =(E31*100/$M$31) -> #DIV/0! | G33: =(G31*100/$M$31) -> #DIV/0! | I33: =(I31*100/$M$31) -> #DIV/0! | K33: =(K31*100/$M$31) -> #DIV/0!
B34: SOMATÓRIO ACUMULADO % | E34: =E32*100/$M$31 -> #DIV/0! | G34: =SUM(E34+G33) -> #DIV/0! | I34: =SUM(G34+I33) -> #DIV/0! | K34: =SUM(I34+K33) -> #DIV/0!

Sheet BDI 1
A1: QUADRO DE COMPOSIÇÃO DO BDI 1
A2: ='PLANILHA ORÇAMENTÁRIA'!A3 -> OBRA: | B2: ='PLANILHA ORÇAMENTÁRIA'!B3:H3 -> CONTRATAÇÃO DE OBRAS DE PAVIMENTAÇÃO COM LAJOTAS DE CONCRETO NA RUA ANSELMO FENALI CREPALDI, ESTRADA URBANA MG-19 E RUA LUCIANO SPADER, COM EXTENSÃO TOTAL 528 METROS LINEARES.
A3: ='PLANILHA ORÇAMENTÁRIA'!A4 -> CE nº | B3: ='PLANILHA ORÇAMENTÁRIA'!B4 -> 10/2026/PMMG
A4: ='PLANILHA ORÇAMENTÁRIA'!A5 -> Valor Total: | B4: ='PLANILHA ORÇAMENTÁRIA'!B5:H5 -> 0
A5: ='PLANILHA ORÇAMENTÁRIA'!A6 -> Razão Social: | B5: ='PLANILHA ORÇAMENTÁRIA'!B6 -> XXXXXXXXXXXXXXXXX
A6: ='PLANILHA ORÇAMENTÁRIA'!A7 -> CNPJ/MF: | B6: ='PLANILHA ORÇAMENTÁRIA'!B7 -> 0
A8: Item | B8: Descrição Análitica | J8: Siglas | K8: % Adotado
A9: 1 | B9: Administração Central | J9: AC | K9: 0.0401
A10: 2 | B10: Seguro e Garantia | J10: S + G | K10: 0.004
A11: 3 | B11: Risco | J11: R | K11: 0.0056
A12: 4 | B12: Despesas Financeiras | J12: DF | K12: 0.0111
A13: 5 | B13: Lucro | J13: L | K13: 0.0778
A14: 6 | B14: Tributos (impostos: COFINS 3% e PIS 0,65%) | J14: CP | K14: 0.0365
A15: 7 | B15: Tributos (ISS) | J15: ISS | K15: 0.02
A16: 8 | B16: Tributos (Contribuição Previdenciária sobre a Receita Bruta) | J16: CPRB | K16: 0
A17: 9 | B17: BDI COM desoneração (Fórmula Acórdão TCU) | J17: BDI PAD | K17: =((1+K9+K10+K11) * (1+K12) * (1+K13)) / (1-K14-K15-K16) -1 -> 0.21242695
A18: FORMULA - ACÓRDÃO TCU 2.622/2013

Sheet BDI 2
A1: QUADRO DE COMPOSIÇÃO DO BDI 2
A2: ='PLANILHA ORÇAMENTÁRIA'!A3 -> OBRA: | B2: ='PLANILHA ORÇAMENTÁRIA'!B3:H3 -> CONTRATAÇÃO DE OBRAS DE PAVIMENTAÇÃO COM LAJOTAS DE CONCRETO NA RUA ANSELMO FENALI CREPALDI, ESTRADA URBANA MG-19 E RUA LUCIANO SPADER, COM EXTENSÃO TOTAL 528 METROS LINEARES.
A3: ='PLANILHA ORÇAMENTÁRIA'!A4 -> CE nº | B3: ='PLANILHA ORÇAMENTÁRIA'!B4 -> 10/2026/PMMG
A4: ='PLANILHA ORÇAMENTÁRIA'!A5 -> Valor Total: | B4: ='PLANILHA ORÇAMENTÁRIA'!B5:H5 -> 0
A5: ='PLANILHA ORÇAMENTÁRIA'!A6 -> Razão Social: | B5: ='PLANILHA ORÇAMENTÁRIA'!B6 -> XXXXXXXXXXXXXXXXX
A6: ='PLANILHA ORÇAMENTÁRIA'!A7 -> CNPJ/MF: | B6: ='PLANILHA ORÇAMENTÁRIA'!B7 -> 0
A8: Item | B8: Descrição Análitica | J8: Siglas | K8: % Adotado
A9: 1 | B9: Administração Central | J9: AC | K9: 0.015
A10: 2 | B10: Seguro e Garantia | J10: S + G | K10: 0.003
A11: 3 | B11: Risco | J11: R | K11: 0.008
A12: 4 | B12: Despesas Financeiras | J12: DF | K12: 0.0085
A13: 5 | B13: Lucro | J13: L | K13: 0.0486
A14: 6 | B14: Tributos (impostos: COFINS 3% e PIS 0,65%) | J14: CP | K14: 0.0365
A15: 7 | B15: Tributos (ISS) | J15: ISS | K15: 0.02
A16: 8 | B16: Tributos (Contribuição Previdenciária sobre a Receita Bruta) | J16: CPRB | K16: 0
A17: 9 | B17: BDI COM desoneração (Fórmula Acórdão TCU) | J17: BDI PAD | K17: =((1+K9+K10+K11) * (1+K12) * (1+K13)) / (1-K14-K15-K16) -1 -> 0.14998245
A18: FORMULA - ACÓRDÃO TCU 2.622/2013

Sheet ENCARGOS SOCIAIS
A1: DEMOSTRATIVO DA TAXA DE ENCARGOS SOCIAIS
A2: OBRA: | B2: ='PLANILHA ORÇAMENTÁRIA'!B3:H3 -> CONTRATAÇÃO DE OBRAS DE PAVIMENTAÇÃO COM LAJOTAS DE CONCRETO NA RUA ANSELMO FENALI CREPALDI, ESTRADA URBANA MG-19 E RUA LUCIANO SPADER, COM EXTENSÃO TOTAL 528 METROS LINEARES.
A3: ='PLANILHA ORÇAMENTÁRIA'!A4 -> CE nº | B3: ='PLANILHA ORÇAMENTÁRIA'!B4:H4 -> 10/2026/PMMG
A4: Razão Social: | B4: ='PLANILHA ORÇAMENTÁRIA'!B6 -> XXXXXXXXXXXXXXXXX
A5: CNPJ/MF: | B5: ='PLANILHA ORÇAMENTÁRIA'!B7 -> 0
A7: Encargos Sociais | J7: Instrução de Serviços DG nº 03/2012
A8: GRUPO A | B8: PREVIDENCIA SOCIAL | J8: 0
B9: FUNDO DE GARANTIA POR TEMPO DE SERVIÇO | J9: 0
B10: SALARIO EDUCAÇÃO | J10: 0
B11: SERVIÇO DA INDUSTRIA - SESI | J11: 0
B12: SERVIÇO NACIONAL DE APRENDIZAGEM INDUSTRIAL | J12: 0
B13: SERVIÇO DE APOIO A PEQUENA E MEDIA EMPRESA | J13: 0
B14: INSTITUTO NACIONAL DE COLONIZAÇÃO E REFORMA AGRATIA - INCRA | J14: 0
B15: SEGURO CONTRA OS ACIDENTES DE TRABALHO | J15: 0
B16: SERVIÇO SOCIAL DA INDUSTRIA DA CONSTRUÇÃO E DO MOBILIARIO - SECONCI | J16: 0
B17: Sub-Total Grupo A | J17: =SUM(J8:J16) -> 0
A18: GRUPO B | B18: REPOUSO SEMANAL E FERIADOS | J18: 0
B19: AUXILIO - ENFERMIDADE | J19: 0
B20: LICENÇA PATERNIDADE | J20: 0
B21: 13º SALARIO | J21: 0
B22: DIAS DE CHUVA, FALTAS, JUSTIFICATIVAS, ACIDENTES DE TRABALHO, OUTRAS PARALIZAÇÕES | J22: 0
B23: Sub-Total Grupo B | J23: =SUM(J18:J22) -> 0
A24: GRUPO C | B24: DEPOSITO POR DESPEDIDA INJUSTA | J24: 0
B25: AVISO PREVIO INDENIZADO | J25: 0
B26: FÉRIAS INDENIZADAS | J26: 0
B27: Sub-Total Grupo C | J27: =SUM(J24:J26) -> 0
A28: GRUPO D | B28: REINCIDENCIA DO GRUPO (A) SOBRE O GRUPO (B) | J28: 0
B29: REINCIDENCIA DO FGTS SOBRE O AVISO PREVIO | J29: 0
B30: Sub-Total Grupo D | J30: =SUM(J28:J29) -> 0
A31: GRUPO E | B31: ENCARGOS INTERSINDICAIS | J31: 0
B32: Sub-Total Grupo E | J32: =SUM(J31) -> 0
A33: TOTAL GERAL | J33: =J17+J23+J27+J30+J32 -> 0
