Workbook
Name BDI: 1+(INDEX(#REF!,ROW())/100)
Name BDI: 1+(INDEX(#REF!,ROW())/100)
Name ContraPart1: #REF!-SUMIF(#REF!,">=0",#REF!)
Name ContraPart1: #REF!-SUMIF(#REF!,">=0",#REF!)
Name ContraPart2: MAX(#REF!-SUM(#REF!),0)
Name ContraPart2: MAX(#REF!-SUM(#REF!),0)
Name Item: INDEX(#REF!,ROW())
Name Item: INDEX(#REF!,ROW())
Name ListaNomes: #REF!
Name ListaNomes: #REF!
Name Macroitem: INDEX(#REF!,ROW())
Name Macroitem: INDEX(#REF!,ROW())
Name Macroitem1: INDEX(#REF!,ROW())
Name Macroitem1: INDEX(#REF!,ROW())
Name Macroitem2: INDEX(#REF!,ROW())
Name Macroitem2: INDEX(#REF!,ROW())
Name Macroitem3: INDEX(#REF!,ROW())
Name Macroitem3: INDEX(#REF!,ROW())
Name MacroitemAc: INDEX(#REF!,ROW())
Name MacroitemAc: INDEX(#REF!,ROW())
Name MacroitemPer: INDEX(#REF!,ROW())
Name MacroitemPer: INDEX(#REF!,ROW())
Name MacroitemRet: INDEX(#REF!,ROW())
Name MacroitemRet: INDEX(#REF!,ROW())
Name matriz: #REF!
Name matriz: #REF!
Name matriz2: #REF!
Name matriz2: #REF!
Name Medicao1: INDEX(#REF!,ROW())
Name Medicao1: INDEX(#REF!,ROW())
Name Quantidade: INDEX(#REF!,ROW())
Name Quantidade: INDEX(#REF!,ROW())
Name Quantidade1: INDEX(#REF!,ROW())
Name Quantidade1: INDEX(#REF!,ROW())
Name Quantidade2: INDEX(#REF!,ROW())
Name Quantidade2: INDEX(#REF!,ROW())
Name Quantidade3: INDEX(#REF!,ROW())
Name Quantidade3: INDEX(#REF!,ROW())
Name QuantidadeAc: SUM(OFFSET('BDI 3'!Medicao1,0,0,1,#REF!))
Name QuantidadeAc: SUM(OFFSET([0]!Medicao1,0,0,1,#REF!))
Name QuantidadePeriodo: INDEX('BDI 3'!TabMedicao,ROW(),#REF!)
Name QuantidadePeriodo: INDEX([0]!TabMedicao,ROW(),#REF!)
Name Registro: IF(INDIRECT(ADDRESS(ROW()-1,COLUMN()))=#REF!,#REF!,IF(INDIRECT(ADDRESS(ROW()-1,COLUMN()))=#REF!,#REF!,IF(INDIRECT(ADDRESS(ROW()-1,COLUMN()))=#REF!,#REF!,"")))
Name Registro: IF(INDIRECT(ADDRESS(ROW()-1,COLUMN()))=#REF!,#REF!,IF(INDIRECT(ADDRESS(ROW()-1,COLUMN()))=#REF!,#REF!,IF(INDIRECT(ADDRESS(ROW()-1,COLUMN()))=#REF!,#REF!,"")))
Name ResParcial: OFFSET('BDI 3'!Subitem,0,0,MATCH(VLOOKUP("Macroitem",'BDI 3'!TabAux,1,FALSE),'BDI 3'!TabAux,0),1)
Name ResParcial: OFFSET([0]!Subitem,0,0,MATCH(VLOOKUP("Macroitem",[0]!TabAux,1,FALSE),[0]!TabAux,0),1)
Name ResParcial1: OFFSET('BDI 3'!Subitem1,0,0,MATCH(VLOOKUP("Macroitem",'BDI 3'!TabAux,1,FALSE),'BDI 3'!TabAux,0),1)
Name ResParcial1: OFFSET([0]!Subitem1,0,0,MATCH(VLOOKUP("Macroitem",[0]!TabAux,1,FALSE),[0]!TabAux,0),1)
Name ResParcial2: OFFSET('BDI 3'!Subitem2,0,0,MATCH(VLOOKUP("Macroitem",'BDI 3'!TabAux,1,FALSE),'BDI 3'!TabAux,0),1)
Name ResParcial2: OFFSET([0]!Subitem2,0,0,MATCH(VLOOKUP("Macroitem",[0]!TabAux,1,FALSE),[0]!TabAux,0),1)
Name ResParcial3: OFFSET('BDI 3'!Subitem3,0,0,MATCH(VLOOKUP("Macroitem",'BDI 3'!TabAux,1,FALSE),'BDI 3'!TabAux,0),1)
Name ResParcial3: OFFSET([0]!Subitem3,0,0,MATCH(VLOOKUP("Macroitem",[0]!TabAux,1,FALSE),[0]!TabAux,0),1)
Name ResParcialAc: OFFSET('BDI 3'!SubitemAc,0,0,MATCH(VLOOKUP("Macroitem",'BDI 3'!TabAux,1,FALSE),'BDI 3'!TabAux,0),1)
Name ResParcialAc: OFFSET([0]!SubitemAc,0,0,MATCH(VLOOKUP("Macroitem",[0]!TabAux,1,FALSE),[0]!TabAux,0),1)
Name ResParcialPer: OFFSET('BDI 3'!SubitemPer,0,0,MATCH(VLOOKUP("Macroitem",'BDI 3'!TabAux,1,FALSE),'BDI 3'!TabAux,0),1)
Name ResParcialPer: OFFSET([0]!SubitemPer,0,0,MATCH(VLOOKUP("Macroitem",[0]!TabAux,1,FALSE),[0]!TabAux,0),1)
Name ResParcialRet: OFFSET('BDI 3'!SubitemRet,0,0,MATCH(VLOOKUP("Macroitem",'BDI 3'!TabAux,1,FALSE),'BDI 3'!TabAux,0),1)
Name ResParcialRet: OFFSET([0]!SubitemRet,0,0,MATCH(VLOOKUP("Macroitem",[0]!TabAux,1,FALSE),[0]!TabAux,0),1)
Name Subitem: INDEX(#REF!,ROW())
Name Subitem: INDEX(#REF!,ROW())

Sheet PLANILHA ORÇAMENTÁRIA
A1: PLANILHA QUANTITATIVA E ORÇAMENTÁRIA
A3: OBRA: | B3: CONTRATAÇÃO DE OBRA DE TERRAPLENAGEM E DRENAGEM NA ESTRADA MUNICIPAL SÃO MATEUS (MG-16), COMPREENDENDO O TRECHO ENTRE A ESTACA 140+0,00 M (PP) E A ESTACA 185+0,00 M (PF), COM EXTENSÃO TOTAL DE 900 METROS LINEARES
A4: CE nº | B4: 9/2026/PMMG
A5: Valor Total: | B5: =G61 -> 0
A6: Razão Social: | B6: XXXXXXXXXXXXXXXXX
A7: CNPJ/MF: | B7: 0
A9: ITEM | B9: FONTE | C9: ITENS DE SERVIÇO | D9: Unidade | E9: Quantidade | F9: Preço Unitário Com BDI (R$) | G9: Preço Total Com BDI (R$) | H9: %
A11: 1 | B11: ADMINISTRAÇÃO LOCAL
A12: 1.1 | B12: COMP-332 | C12: ADMINISTRAÇÃO LOCAL-MG-16 - EST.140+00 A 185+0,00 (EXT. 900,00M) | D12: UN | E12: 1 | G12: =ROUND((E12*F12),2) -> 0 | H12: =G12*100/$G$61 -> #DIV/0!
A13: TOTAL DO ITEM | G13: =SUM(G12:G12) -> 0 | H13: =G13*100/$G$61 -> #DIV/0!
A15: 2 | B15: TERRAPLANAGEM
A16: 2.1 | B16: COMP-85 | C16: MOBILIZAÇÃO DE EQUIPAMENTO | D16: UN | E16: 1 | G16: =ROUND((E16*F16),2) -> 0 | H16: =G16*100/$G$61 -> #DIV/0!
A17: 2.2 | B17: COMP-86 | C17: DESMOBILIZAÇÃO DE EQUIPAMENTO | D17: UN | E17: 1 | G17: =ROUND((E17*F17),2) -> 0 | H17: =G17*100/$G$61 -> #DIV/0!
A18: TOTAL DO ITEM | G18: =SUM(G16:G17) -> 0 | H18: =G18*100/$G$61 -> #DIV/0!
A20: 3 | B20: SERVIÇOS INICIAIS
A21: 3.1 | B21: SINAPI 103689 | C21: FORNECIMENTO E INSTALAÇÃO DE PLACA DE OBRA COM CHAPA GALVANIZADA E ESTRUTURA DE MADEIRA. AF_03/2022_PS | D21: M2 | E21: 6.48 | G21: =ROUND((E21*F21),2) -> 0 | H21: =G21*100/$G$61 -> #DIV/0!
A22: TOTAL DO ITEM | G22: =SUM(G21:G21) -> 0 | H22: =G22*100/$G$61 -> #DIV/0!
A24: 4 | B24: TERRAPLANAGEM - 1ª ETAPA - LIMPEZA, REMOÇÕES E COMPLEMENTAÇÕES
A25: 4.1 | B25: SICRO 5502139 | C25: ESCAVAÇÃO, CARGA E TRANSPORTE DE MATERIAL DE 1ª CATEGORIA - DMT DE 800 A 1.000 M - CAMINHO DE SERVIÇO EM REVESTIMENTO PRIMÁRIO - COM ESCAVADEIRA E CAMINHÃO BASCULANTE DE 14 M³ | D25: M3 | E25: 6192.41 | G25: =ROUND((E25*F25),2) -> 0 | H25: =G25*100/$G$61 -> #DIV/0!
A26: 4.2 | B26: COMP-71 | C26: EXECUÇÃO, COMPACTAÇÃO E REGULARIZAÇÃO DE SUB BASE/CAMADA DE SEIXO ROLADO - (EXCLUSIVE - SEIXO E TRANSPORTE ) | D26: M3 | E26: 3617.92 | G26: =ROUND((E26*F26),2) -> 0 | H26: =G26*100/$G$61 -> #DIV/0!
A27: 4.3 | B27: COMP-60 | C27: EXTRAÇÃO DE SEIXO EM RIO ( JAZIDA DE SEIXO LEGALIZADO PELA PREFEITURA) | D27: M3 | E27: 4703.3 | G27: =ROUND((E27*F27),2) -> 0 | H27: =G27*100/$G$61 -> #DIV/0!
A28: 4.4 | B28: SICRO 5915321 | C28: TRANSPORTE COM CAMINHÃO BASCULANTE DE 14 M³ - RODOVIA PAVIMENTADA | D28: TXKM | E28: 76193.4 | G28: =ROUND((E28*F28),2) -> 0 | H28: =G28*100/$G$61 -> #DIV/0!
A29: TOTAL DO ITEM | G29: =SUM(G25:G28) -> 0 | H29: =G29*100/$G$61 -> #DIV/0!
A31: 5 | B31: TERRAPLANAGEM - 2ª ETAPA - CAMADAS DE TERRAPLANAGEM
A32: 5.1 | B32: COMP-71 | C32: EXECUÇÃO, COMPACTAÇÃO E REGULARIZAÇÃO DE SUB BASE/CAMADA DE SEIXO ROLADO - (EXCLUSIVE - SEIXO E TRANSPORTE ) | D32: M3 | E32: 3347 | G32: =ROUND((E32*F32),2) -> 0 | H32: =G32*100/$G$61 -> #DIV/0!
A33: 5.2 | B33: COMP-60 | C33: EXTRAÇÃO DE SEIXO EM RIO ( JAZIDA DE SEIXO LEGALIZADO PELA PREFEITURA) | D33: M3 | E33: 4351.1 | G33: =ROUND((E33*F33),2) -> 0 | H33: =G33*100/$G$61 -> #DIV/0!
A34: 5.3 | B34: SICRO 5915321 | C34: TRANSPORTE COM CAMINHÃO BASCULANTE DE 14 M³ - RODOVIA PAVIMENTADA | D34: TXKM | E34: 70487.82 | G34: =ROUND((E34*F34),2) -> 0 | H34: =G34*100/$G$61 -> #DIV/0!
A35: 5.4 | B35: COMP-170 | C35: EXECUÇÃO, COMPACTAÇÃO E REGULARIZAÇÃO DE SUB BASE/CAMADA DE SEIXO ROLADO PENEIRADO (EXCLUSIVE SEIXO PENERADO E TRANSPORTE) | D35: M3 | E35: 1393 | G35: =ROUND((E35*F35),2) -> 0 | H35: =G35*100/$G$61 -> #DIV/0!
A36: 5.5 | B36: COMP-202 | C36: AQUISIÇÃO DE SEIXO ROLADO PENEIRADO - (EXCLUSIVE - TRANSPORTE ) | D36: M3 | E36: 1671.6 | G36: =ROUND((E36*F36),2) -> 0 | H36: =G36*100/$G$61 -> #DIV/0!
A37: 5.6 | B37: SICRO 5915321 | C37: TRANSPORTE COM CAMINHÃO BASCULANTE DE 14 M³ - RODOVIA PAVIMENTADA | D37: TXKM | E37: 46002.43 | G37: =ROUND((E37*F37),2) -> 0 | H37: =G37*100/$G$61 -> #DIV/0!
A38: TOTAL DO ITEM | G38: =SUM(G32:G37) -> 0 | H38: =G38*100/$G$61 -> #DIV/0!
A40: 6 | B40: DRENAGEM
A41: 6.1 | B41: SICRO 4805757 | C41: ESCAVAÇÃO MECÂNICA DE VALA EM MATERIAL DE 1ª CATEGORIA | D41: M3 | E41: 308.69 | G41: =ROUND((E41*F41),2) -> 0 | H41: =G41*100/$G$61 -> #DIV/0!
A42: 6.2 | B42: SICRO 4815671 | C42: REATERRO E COMPACTAÇÃO COM SOQUETE VIBRATÓRIO | D42: M3 | E42: 105.27 | G42: =ROUND((E42*F42),2) -> 0 | H42: =G42*100/$G$61 -> #DIV/0!
A43: 6.3 | B43: SICRO 5915320 | C43: TRANSPORTE COM CAMINHÃO BASCULANTE DE 14 M³ - RODOVIA EM REVESTIMENTO PRIMÁRIO | D43: TXKM | E43: 231.51 | G43: =ROUND((E43*F43),2) -> 0 | H43: =G43*100/$G$61 -> #DIV/0!
A44: 6.4 | B44: COMP-60 | C44: EXTRAÇÃO DE SEIXO EM RIO ( JAZIDA DE SEIXO LEGALIZADO PELA PREFEITURA) | D44: M3 | E44: 136.86 | G44: =ROUND((E44*F44),2) -> 0 | H44: =G44*100/$G$61 -> #DIV/0!
A45: 6.5 | B45: SICRO 5915321 | C45: TRANSPORTE COM CAMINHÃO BASCULANTE DE 14 M³ - RODOVIA PAVIMENTADA | D45: TXKM | E45: 1847.56 | G45: =ROUND((E45*F45),2) -> 0 | H45: =G45*100/$G$61 -> #DIV/0!
A46: 6.6 | B46: SINAPI 92809 | C46: ASSENTAMENTO DE TUBO DE CONCRETO PARA REDES COLETORAS DE ÁGUAS PLUVIAIS, DIÂMETRO DE 400 MM, JUNTA RÍGIDA, INSTALADO EM LOCAL COM BAIXO NÍVEL DE INTERFERÊNCIAS (NÃO INCLUI FORNECIMENTO). AF_03/2024 | D46: M | E46: 50 | G46: =ROUND((E46*F46),2) -> 0 | H46: =G46*100/$G$61 -> #DIV/0!
A47: 6.7 | B47: SINAPI-I 37451 | C47: TUBO DE CONCRETO SIMPLES PARA AGUAS PLUVIAIS, CLASSE PS1, COM ENCAIXE MACHO E FEMEA, DIAMETRO NOMINAL DE 400 MM | D47: M | E47: 50 | G47: =ROUND((E47*F47),2) -> 0 | H47: =G47*100/$G$61 -> #DIV/0!
A48: 6.8 | B48: SINAPI 92811 | C48: ASSENTAMENTO DE TUBO DE CONCRETO PARA REDES COLETORAS DE ÁGUAS PLUVIAIS, DIÂMETRO DE 600 MM, JUNTA RÍGIDA, INSTALADO EM LOCAL COM BAIXO NÍVEL DE INTERFERÊNCIAS (NÃO INCLUI FORNECIMENTO). AF_03/2024 | D48: M | E48: 13 | G48: =ROUND((E48*F48),2) -> 0 | H48: =G48*100/$G$61 -> #DIV/0!
...

Sheet CRONOGRAMA FISCO-FINANCEIRO
A1: CRONOGRAMA FÍSICO-FINANCEIRO
A4: OBRA: | B4: ='PLANILHA ORÇAMENTÁRIA'!B3 -> CONTRATAÇÃO DE OBRA DE TERRAPLENAGEM E DRENAGEM NA ESTRADA MUNICIPAL SÃO MATEUS (MG-16), COMPREENDENDO O TRECHO ENTRE A ESTACA 140+0,00 M (PP) E A ESTACA 185+0,00 M (PF), COM EXTENSÃO TOTAL DE 900 METROS LINEARES
A5: ='PLANILHA ORÇAMENTÁRIA'!A4 -> CE nº | B5: ='PLANILHA ORÇAMENTÁRIA'!B4 -> 9/2026/PMMG
A6: Valor Total: | B6: ='PLANILHA ORÇAMENTÁRIA'!B5 -> 0
A7: Razão Social: | B7: ='PLANILHA ORÇAMENTÁRIA'!B6 -> XXXXXXXXXXXXXXXXX
A8: CNPJ/MF: | B8: ='PLANILHA ORÇAMENTÁRIA'!B7 -> 0
A10: ITEM | B10: DISCRIMINAÇÃO | E10: PERÍODO EM MESES | Q10: TOTAL
E11: MÊS 01 | G11: MÊS 02 | I11: MÊS 03 | K11: MÊS 04 | M11: MÊS 05 | O11: MÊS 06
E12: R$ | F12: % | G12: R$ | H12: % | I12: R$ | J12: % | K12: R$ | L12: % | M12: R$ | N12: % | O12: R$ | P12: % | Q12: R$ | R12: %
A13: 1 | B13: ='PLANILHA ORÇAMENTÁRIA'!B11:H11 -> ADMINISTRAÇÃO LOCAL | E13: =($Q$13*F13) -> 0 | F13: 0.14 | G13: =($Q$13*H13) -> 0 | H13: 0.13 | I13: =($Q$13*J13) -> 0 | J13: 0.25 | K13: =($Q$13*L13) -> 0 | L13: 0.22 | M13: =($Q$13*N13) -> 0 | N13: 0.11 | O13: =($Q$13*P13) -> 0 | P13: 0.15 | Q13: ='PLANILHA ORÇAMENTÁRIA'!G13 -> 0 | R13: =(Q13*100)/'PLANILHA ORÇAMENTÁRIA'!$G$61 -> #DIV/0!
A14: 2 | B14: ='PLANILHA ORÇAMENTÁRIA'!B15 -> TERRAPLANAGEM | E14: =($Q$14*F14) -> 0 | F14: 0.5 | G14: =($Q$14*H14) -> 0 | H14: 0 | I14: =($Q$14*J14) -> 0 | J14: 0 | K14: =($Q$14*L14) -> 0 | L14: 0 | M14: =($Q$14*N14) -> 0 | N14: 0 | O14: =($Q$14*P14) -> 0 | P14: 0.5 | Q14: ='PLANILHA ORÇAMENTÁRIA'!G18 -> 0 | R14: =(Q14*100)/'PLANILHA ORÇAMENTÁRIA'!$G$61 -> #DIV/0!
A15: 3 | B15: ='PLANILHA ORÇAMENTÁRIA'!B20 -> SERVIÇOS INICIAIS | E15: =($Q$15*F15) -> 0 | F15: 1 | G15: =($Q$15*H15) -> 0 | H15: 0 | I15: =($Q$15*J15) -> 0 | J15: 0 | K15: =($Q$15*L15) -> 0 | L15: 0 | M15: =($Q$15*N15) -> 0 | N15: 0 | O15: =($Q$15*P15) -> 0 | P15: 0 | Q15: ='PLANILHA ORÇAMENTÁRIA'!G22 -> 0 | R15: =(Q15*100)/'PLANILHA ORÇAMENTÁRIA'!$G$61 -> #DIV/0!
A16: 4 | B16: ='PLANILHA ORÇAMENTÁRIA'!B24 -> TERRAPLANAGEM - 1ª ETAPA - LIMPEZA, REMOÇÕES E COMPLEMENTAÇÕES | E16: =($Q$16*F16) -> 0 | F16: 0.3 | G16: =($Q$16*H16) -> 0 | H16: 0.3 | I16: =($Q$16*J16) -> 0 | J16: 0.2 | K16: =($Q$16*L16) -> 0 | L16: 0.2 | M16: =($Q$16*N16) -> 0 | N16: 0 | O16: =($Q$16*P16) -> 0 | P16: 0 | Q16: ='PLANILHA ORÇAMENTÁRIA'!G29 -> 0 | R16: =(Q16*100)/'PLANILHA ORÇAMENTÁRIA'!$G$61 -> #DIV/0!
A17: 5 | B17: ='PLANILHA ORÇAMENTÁRIA'!B31 -> TERRAPLANAGEM - 2ª ETAPA - CAMADAS DE TERRAPLANAGEM | E17: =($Q$17*F17) -> 0 | F17: 0 | G17: =($Q$17*H17) -> 0 | H17: 0 | I17: =($Q$17*J17) -> 0 | J17: 0.3 | K17: =($Q$17*L17) -> 0 | L17: 0.3 | M17: =($Q$17*N17) -> 0 | N17: 0.2 | O17: =($Q$17*P17) -> 0 | P17: 0.2 | Q17: ='PLANILHA ORÇAMENTÁRIA'!G38 -> 0 | R17: =(Q17*100)/'PLANILHA ORÇAMENTÁRIA'!$G$61 -> #DIV/0!
A18: 6 | B18: ='PLANILHA ORÇAMENTÁRIA'!B40:H40 -> DRENAGEM | E18: =($Q$18*F18) -> 0 | F18: 0.4 | G18: =($Q$18*H18) -> 0 | H18: 0.3 | I18: =($Q$18*J18) -> 0 | J18: 0.3 | K18: =($Q$18*L18) -> 0 | L18: 0 | M18: =($Q$18*N18) -> 0 | N18: 0 | O18: =($Q$18*P18) -> 0 | P18: 0 | Q18: ='PLANILHA ORÇAMENTÁRIA'!G59 -> 0 | R18: =(Q18*100)/'PLANILHA ORÇAMENTÁRIA'!$G$61 -> #DIV/0!
B19: VALOR DA OBRA | E19: =SUM(E13:E18) -> 0 | G19: =SUM(G13:G18) -> 0 | I19: =SUM(I13:I18) -> 0 | K19: =SUM(K13:K18) -> 0 | M19: =SUM(M13:M18) -> 0 | O19: =SUM(O13:O18) -> 0 | Q19: =SUM(Q13:Q17,Q18:Q18) -> 0 | R19: =SUM(R13:R17,R18:R18) -> #DIV/0!
B20: VALOR ACUMULADO | E20: =E19 -> 0 | G20: =E20+G19 -> 0 | I20: =G20+I19 -> 0 | K20: =I20+K19 -> 0 | M20: =K20+M19 -> 0 | O20: =M20+O19 -> 0 | Q20: =SUM(E19,G19,I19,K19,M19,O19,) -> 0
B21: PERCENTUAL DA OBRA | E21: =(E19*100/$Q$19) -> #DIV/0! | G21: =(G19*100/$Q$19) -> #DIV/0! | I21: =(I19*100/$Q$19) -> #DIV/0! | K21: =(K19*100/$Q$19) -> #DIV/0! | M21: =(M19*100/$Q$19) -> #DIV/0! | O21: =(O19*100/$Q$19) -> #DIV/0!
B22: SOMATÓRIO ACUMULADO % | E22: =E20*100/$Q$19 -> #DIV/0! | G22: =SUM(E22+G21) -> #DIV/0! | I22: =SUM(G22+I21) -> #DIV/0! | K22: =SUM(I22+K21) -> #DIV/0! | M22: =SUM(K22+M21) -> #DIV/0! | O22: =SUM(M22+O21) -> #DIV/0!

Sheet BDI 1
A1: QUADRO DE COMPOSIÇÃO DO BDI 1
A2: ='PLANILHA ORÇAMENTÁRIA'!A3 -> OBRA: | B2: ='PLANILHA ORÇAMENTÁRIA'!B3:H3 -> CONTRATAÇÃO DE OBRA DE TERRAPLENAGEM E DRENAGEM NA ESTRADA MUNICIPAL SÃO MATEUS (MG-16), COMPREENDENDO O TRECHO ENTRE A ESTACA 140+0,00 M (PP) E A ESTACA 185+0,00 M (PF), COM EXTENSÃO TOTAL DE 900 METROS LINEARES
A3: ='PLANILHA ORÇAMENTÁRIA'!A4 -> CE nº | B3: ='PLANILHA ORÇAMENTÁRIA'!B4 -> 9/2026/PMMG
A4: ='PLANILHA ORÇAMENTÁRIA'!A5 -> Valor Total: | B4: ='PLANILHA ORÇAMENTÁRIA'!B5:H5 -> 0
A5: ='PLANILHA ORÇAMENTÁRIA'!A6 -> Razão Social: | B5: ='PLANILHA ORÇAMENTÁRIA'!B6 -> XXXXXXXXXXXXXXXXX
A6: ='PLANILHA ORÇAMENTÁRIA'!A7 -> CNPJ/MF: | B6: ='PLANILHA ORÇAMENTÁRIA'!B7 -> 0
A8: Item | B8: Descrição Análitica | J8: Siglas | K8: % Adotado
A9: 1 | B9: Administração Central | J9: AC
A10: 2 | B10: Seguro e Garantia | J10: S + G
A11: 3 | B11: Risco | J11: R
A12: 4 | B12: Despesas Financeiras | J12: DF
A13: 5 | B13: Lucro | J13: L
A14: 6 | B14: Tributos (impostos: COFINS 3% e PIS 0,65%) | J14: CP
A15: 7 | B15: Tributos (ISS) | J15: ISS
A16: 8 | B16: Tributos (Contribuição Previdenciária sobre a Receita Bruta) | J16: CPRB
A17: 9 | B17: BDI COM desoneração (Fórmula Acórdão TCU) | J17: BDI PAD | K17: =((1+K9+K10+K11) * (1+K12) * (1+K13)) / (1-K14-K15-K16) -1 -> 0
A18: FORMULA - ACÓRDÃO TCU 2.622/2013

Sheet BDI 2
A1: QUADRO DE COMPOSIÇÃO DO BDI 2
A2: ='PLANILHA ORÇAMENTÁRIA'!A3 -> OBRA: | B2: ='PLANILHA ORÇAMENTÁRIA'!B3:H3 -> CONTRATAÇÃO DE OBRA DE TERRAPLENAGEM E DRENAGEM NA ESTRADA MUNICIPAL SÃO MATEUS (MG-16), COMPREENDENDO O TRECHO ENTRE A ESTACA 140+0,00 M (PP) E A ESTACA 185+0,00 M (PF), COM EXTENSÃO TOTAL DE 900 METROS LINEARES
A3: ='PLANILHA ORÇAMENTÁRIA'!A4 -> CE nº | B3: ='PLANILHA ORÇAMENTÁRIA'!B4 -> 9/2026/PMMG
A4: ='PLANILHA ORÇAMENTÁRIA'!A5 -> Valor Total: | B4: ='PLANILHA ORÇAMENTÁRIA'!B5:H5 -> 0
A5: ='PLANILHA ORÇAMENTÁRIA'!A6 -> Razão Social: | B5: ='PLANILHA ORÇAMENTÁRIA'!B6 -> XXXXXXXXXXXXXXXXX
A6: ='PLANILHA ORÇAMENTÁRIA'!A7 -> CNPJ/MF: | B6: ='PLANILHA ORÇAMENTÁRIA'!B7 -> 0
A8: Item | B8: Descrição Análitica | J8: Siglas | K8: % Adotado
A9: 1 | B9: Administração Central | J9: AC
A10: 2 | B10: Seguro e Garantia | J10: S + G
A11: 3 | B11: Risco | J11: R
A12: 4 | B12: Despesas Financeiras | J12: DF
A13: 5 | B13: Lucro | J13: L
A14: 6 | B14: Tributos (impostos: COFINS 3% e PIS 0,65%) | J14: CP
A15: 7 | B15: Tributos (ISS) | J15: ISS
A16: 8 | B16: Tributos (Contribuição Previdenciária sobre a Receita Bruta) | J16: CPRB
A17: 9 | B17: BDI COM desoneração (Fórmula Acórdão TCU) | J17: BDI PAD | K17: =((1+K9+K10+K11) * (1+K12) * (1+K13)) / (1-K14-K15-K16) -1 -> 0
A18: FORMULA - ACÓRDÃO TCU 2.622/2013

Sheet BDI 3
A1: QUADRO DE COMPOSIÇÃO DO BDI 3
A2: ='PLANILHA ORÇAMENTÁRIA'!A3 -> OBRA: | B2: ='PLANILHA ORÇAMENTÁRIA'!B3:H3 -> CONTRATAÇÃO DE OBRA DE TERRAPLENAGEM E DRENAGEM NA ESTRADA MUNICIPAL SÃO MATEUS (MG-16), COMPREENDENDO O TRECHO ENTRE A ESTACA 140+0,00 M (PP) E A ESTACA 185+0,00 M (PF), COM EXTENSÃO TOTAL DE 900 METROS LINEARES
A3: ='PLANILHA ORÇAMENTÁRIA'!A4 -> CE nº | B3: ='PLANILHA ORÇAMENTÁRIA'!B4 -> 9/2026/PMMG
A4: ='PLANILHA ORÇAMENTÁRIA'!A5 -> Valor Total: | B4: ='PLANILHA ORÇAMENTÁRIA'!B5:H5 -> 0
A5: ='PLANILHA ORÇAMENTÁRIA'!A6 -> Razão Social: | B5: ='PLANILHA ORÇAMENTÁRIA'!B6 -> XXXXXXXXXXXXXXXXX
A6: ='PLANILHA ORÇAMENTÁRIA'!A7 -> CNPJ/MF: | B6: ='PLANILHA ORÇAMENTÁRIA'!B7 -> 0
A8: Item | B8: Descrição Análitica | J8: Siglas | K8: % Adotado
A9: 1 | B9: Administração Central | J9: AC
A10: 2 | B10: Seguro e Garantia | J10: S + G
A11: 3 | B11: Risco | J11: R
A12: 4 | B12: Despesas Financeiras | J12: DF
A13: 5 | B13: Lucro | J13: L
A14: 6 | B14: Tributos (impostos: COFINS 3% e PIS 0,65%) | J14: CP
A15: 7 | B15: Tributos (ISS) | J15: ISS
A16: 8 | B16: Tributos (Contribuição Previdenciária sobre a Receita Bruta) | J16: CPRB
A17: 9 | B17: BDI COM desoneração (Fórmula Acórdão TCU) | J17: BDI PAD | K17: =((1+K9+K10+K11) * (1+K12) * (1+K13)) / (1-K14-K15-K16) -1 -> 0
A18: FORMULA - ACÓRDÃO TCU 2.622/2013

Sheet ENCARGOS SOCIAIS
A1: DEMOSTRATIVO DA TAXA DE ENCARGOS SOCIAIS
A2: OBRA: | B2: ='PLANILHA ORÇAMENTÁRIA'!B3:H3 -> CONTRATAÇÃO DE OBRA DE TERRAPLENAGEM E DRENAGEM NA ESTRADA MUNICIPAL SÃO MATEUS (MG-16), COMPREENDENDO O TRECHO ENTRE A ESTACA 140+0,00 M (PP) E A ESTACA 185+0,00 M (PF), COM EXTENSÃO TOTAL DE 900 METROS LINEARES
A3: ='PLANILHA ORÇAMENTÁRIA'!A4 -> CE nº | B3: ='PLANILHA ORÇAMENTÁRIA'!B4:H4 -> 9/2026/PMMG
A4: Razão Social: | B4: ='PLANILHA ORÇAMENTÁRIA'!B6 -> XXXXXXXXXXXXXXXXX
A5: CNPJ/MF: | B5: ='PLANILHA ORÇAMENTÁRIA'!B7 -> 0
A7: Encargos Sociais | J7: Instrução de Serviços DG nº 03/2012
A8: GRUPO A | B8: PREVIDENCIA SOCIAL | J8: 0
B9: FUNDO DE GARANTIA POR TEMPO DE SERVIÇO | J9: 0
B10: SALARIO EDUCAÇÃO | J10: 0
B11: SERVIÇO DA INDUSTRIA - SESI | J11: 0
B12: SERVIÇO NACIONAL DE APRENDIZAGEM INDUSTRIAL | J12: 0
B13: SERVIÇO DE APOIO A PEQUENA E MEDIA EMPRESA | J13: 0
B14: INSTITUTO NACIONAL DE COLONIZAÇÃO E REFORMA AGRATIA - INCRA | J14: 0
B15: SEGURO CONTRA OS ACIDENTES DE TRABALHO | J15: 0
B16: SERVIÇO SOCIAL DA INDUSTRIA DA CONSTRUÇÃO E DO MOBILIARIO - SECONCI | J16: 0
B17: Sub-Total Grupo A | J17: =SUM(J8:J16) -> 0
A18: GRUPO B | B18: REPOUSO SEMANAL E FERIADOS | J18: 0
B19: AUXILIO - ENFERMIDADE | J19: 0
B20: LICENÇA PATERNIDADE | J20: 0
B21: 13º SALARIO | J21: 0
B22: DIAS DE CHUVA, FALTAS, JUSTIFICATIVAS, ACIDENTES DE TRABALHO, OUTRAS PARALIZAÇÕES | J22: 0
B23: Sub-Total Grupo B | J23: =SUM(J18:J22) -> 0
A24: GRUPO C | B24: DEPOSITO POR DESPEDIDA INJUSTA | J24: 0
B25: AVISO PREVIO INDENIZADO | J25: 0
B26: FÉRIAS INDENIZADAS | J26: 0
B27: Sub-Total Grupo C | J27: =SUM(J24:J26) -> 0
A28: GRUPO D | B28: REINCIDENCIA DO GRUPO (A) SOBRE O GRUPO (B) | J28: 0
B29: REINCIDENCIA DO FGTS SOBRE O AVISO PREVIO | J29: 0
B30: Sub-Total Grupo D | J30: =SUM(J28:J29) -> 0
A31: GRUPO E | B31: ENCARGOS INTERSINDICAIS | J31: 0
B32: Sub-Total Grupo E | J32: =SUM(J31) -> 0
A33: TOTAL GERAL | J33: =J17+J23+J27+J30+J32 -> 0
