Workbook
Name BDI: 1+(INDEX(#REF!,ROW())/100)
Name ContraPart1: #REF!-SUMIF(#REF!,">=0",#REF!)
Name ContraPart2: MAX(#REF!-SUM(#REF!),0)
Name Item: INDEX(#REF!,ROW())
Name ListaNomes: #REF!
Name Macroitem: INDEX(#REF!,ROW())
Name Macroitem1: INDEX(#REF!,ROW())
Name Macroitem2: INDEX(#REF!,ROW())
Name Macroitem3: INDEX(#REF!,ROW())
Name MacroitemAc: INDEX(#REF!,ROW())
Name MacroitemPer: INDEX(#REF!,ROW())
Name MacroitemRet: INDEX(#REF!,ROW())
Name matriz: #REF!
Name matriz2: #REF!
Name Medicao1: INDEX(#REF!,ROW())
Name Quantidade: INDEX(#REF!,ROW())
Name Quantidade1: INDEX(#REF!,ROW())
Name Quantidade2: INDEX(#REF!,ROW())
Name Quantidade3: INDEX(#REF!,ROW())
Name QuantidadeAc: SUM(OFFSET([0]!Medicao1,0,0,1,#REF!))
Name QuantidadePeriodo: INDEX([0]!TabMedicao,ROW(),#REF!)
Name Registro: IF(INDIRECT(ADDRESS(ROW()-1,COLUMN()))=#REF!,#REF!,IF(INDIRECT(ADDRESS(ROW()-1,COLUMN()))=#REF!,#REF!,IF(INDIRECT(ADDRESS(ROW()-1,COLUMN()))=#REF!,#REF!,"")))
Name ResParcial: OFFSET([0]!Subitem,0,0,MATCH(VLOOKUP("Macroitem",[0]!TabAux,1,FALSE),[0]!TabAux,0),1)
Name ResParcial1: OFFSET([0]!Subitem1,0,0,MATCH(VLOOKUP("Macroitem",[0]!TabAux,1,FALSE),[0]!TabAux,0),1)
Name ResParcial2: OFFSET([0]!Subitem2,0,0,MATCH(VLOOKUP("Macroitem",[0]!TabAux,1,FALSE),[0]!TabAux,0),1)
Name ResParcial3: OFFSET([0]!Subitem3,0,0,MATCH(VLOOKUP("Macroitem",[0]!TabAux,1,FALSE),[0]!TabAux,0),1)
Name ResParcialAc: OFFSET([0]!SubitemAc,0,0,MATCH(VLOOKUP("Macroitem",[0]!TabAux,1,FALSE),[0]!TabAux,0),1)
Name ResParcialPer: OFFSET([0]!SubitemPer,0,0,MATCH(VLOOKUP("Macroitem",[0]!TabAux,1,FALSE),[0]!TabAux,0),1)
Name ResParcialRet: OFFSET([0]!SubitemRet,0,0,MATCH(VLOOKUP("Macroitem",[0]!TabAux,1,FALSE),[0]!TabAux,0),1)
Name Subitem: INDEX(#REF!,ROW())
Name Subitem1: INDEX(#REF!,ROW())
Name Subitem2: INDEX(#REF!,ROW())
Name Subitem3: INDEX(#REF!,ROW())
Name SubitemAc: INDEX(#REF!,ROW())
Name SubitemPer: INDEX(#REF!,ROW())
Name SubitemRet: INDEX(#REF!,ROW())
Name TabAux: #REF!
Name TabAuxRes: #REF!
Name TabMedicao: #REF!
Name TESTE: #REF!*#REF!
Name TotalQ1C2: [0]!Quantidade1*[0]!Unitario2
Name TotalQ2C1: [0]!Quantidade2*[0]!Unitario1
Name TotalQ2C2: [0]!Quantidade2*[0]!Unitario2
Name TotalSubitem1: [0]!Quantidade1*[0]!Unitario1
Name Unitario1: INDEX(#REF!,ROW())
Name Unitario2: INDEX(#REF!,ROW())

Sheet PLANILHA ORÇAMENTÁRIA
A1: PLANILHA QUANTITATIVA E ORÇAMENTÁRIA
A3: OBRA: | B3: CONTRATAÇÃO DE OBRA PREPARATÓRIA PARA INSTALAÇÃO DE UMA PONTE SOBRE O RIO DO MEIO, LOCALIZADO NA RUA IRMÃOS SOUZA, BAIRRO NOVA ROMA, MUNICÍPIO DE MORRO GRANDE/SC
A4: CE nº | B4: 4/2026/PMMG
A5: Valor Total: | B5: =G60 -> 0
A6: Razão Social: | B6: XXXXXXXXXXXXXXXXX
A7: CNPJ/MF: | B7: 0
A9: ITEM | B9: FONTE | C9: ITENS DE SERVIÇO | D9: Unidade | E9: Quantidade | F9: Preço Unitário Com BDI (R$) | G9: Preço Total Com BDI (R$) | H9: %
A11: 1 | B11: DEMOLIÇÃO E REMOÇÃO ESTRUTURA EXISTENTE
A12: 1.1 | B12: SICRO 1619003 | C12: Demolição mecânica de concreto armado, com escavadeira hidráulica com martelo hidráulico - sem reaproveitamento | D12: m³ | E12: 225 | G12: =ROUND((E12*F12),2) -> 0 | H12: =G12*100/$G$60 -> #DIV/0!
A13: 1.2 | B13: SICRO 5914675 | C13: Carga, manobra e descarga de material demolido em caminhão basculante de 6 m³ - carga com carregadeira de 1,72 m³ e descarga livre | D13: ton | E13: 562.5 | G13: =ROUND((E13*F13),2) -> 0 | H13: =G13*100/$G$60 -> #DIV/0!
A14: 1.3 | B14: SICRO 5914314 | C14: Transporte com caminhão basculante de 6 m³ - rodovia em leito natural | D14: tkm | E14: 1687.5 | G14: =ROUND((E14*F14),2) -> 0 | H14: =G14*100/$G$60 -> #DIV/0!
A15: 1.4 | B15: SICRO 4413984 | C15: Regularização de bota-fora com espalhamento e compactação | D15: m³ | E15: 225 | G15: =ROUND((E15*F15),2) -> 0 | H15: =G15*100/$G$60 -> #DIV/0!
A16: TOTAL DO ITEM | G16: =SUM(G12:G15) -> 0 | H16: =G16*100/$G$60 -> #DIV/0!
A18: 2 | B18: TERRAPLANAGEM
A19: 2.1 | B19: SICRO 5502161 | C19: Escavação, carga e transporte de material de 1ª categoria - dmt de 50 a 200 m - caminho de serviço pavimentado - com escavadeira e caminhão basculante de 14 m³ | D19: m³ | E19: 225 | G19: =ROUND((E19*F19),2) -> 0 | H19: =G19*100/$G$60 -> #DIV/0!
A20: 2.2 | B20: SICRO 1505877 | C20: Enrocamento de pedra espalhada e compactada mecanicamente - pedra de mão comercial - fornecimento e assentamento | D20: m³ | E20: 60.4 | G20: =ROUND((E20*F20),2) -> 0 | H20: =G20*100/$G$60 -> #DIV/0!
A21: TOTAL DO ITEM | G21: =SUM(G19:G20) -> 0 | H21: =G21*100/$G$60 -> #DIV/0!
A23: 3 | B23: APARELHOS DE APOIO - NEOPREME FRETADO
A24: 3.1 | B24: SICRO 307732 | C24: Aparelho de apoio de Neoprene fretado para estruturas pré-moldadas - fornecimento e instalação | D24: dm³ | E24: 10.8 | G24: =ROUND((E24*F24),2) -> 0 | H24: =G24*100/$G$60 -> #DIV/0!
A25: TOTAL DO ITEM | G25: =SUM(G24:G24) -> 0 | H25: =G25*100/$G$60 -> #DIV/0!
A27: 4 | B27: BLOCO - SAPATA DE FUNDAÇÃO
A28: 4.1 | B28: COMP CP-0005 | C28: Concretagem, fck 15 mpa, com uso de bomba - lançamento, adensamento e acabamento. | D28: m³ | E28: 1.22 | G28: =ROUND((E28*F28),2) -> 0 | H28: =G28*100/$G$60 -> #DIV/0!
A29: 4.2 | B29: SICRO 3108011 | C29: Fôrmas de compensado plastificado 12 mm - uso geral - utilização de 1 vez - confecção, instalação e retirada | D29: m² | E29: 33.16 | G29: =ROUND((E29*F29),2) -> 0 | H29: =G29*100/$G$60 -> #DIV/0!
A30: 4.3 | B30: SICRO 407819 | C30: Armação em aço CA-50 - fornecimento, preparo e colocação | D30: kg | E30: 2199.36 | G30: =ROUND((E30*F30),2) -> 0 | H30: =G30*100/$G$60 -> #DIV/0!
A31: 4.4 | B31: COMP CP-0006 | C31: Concretagem, fck 30 mpa, com uso de bomba - lançamento, adensamento e acabamento. | D31: m³ | E31: 19.62 | G31: =ROUND((E31*F31),2) -> 0 | H31: =G31*100/$G$60 -> #DIV/0!
A32: TOTAL DO ITEM | G32: =SUM(G28:G31) -> 0 | H32: =G32*100/$G$60 -> #DIV/0!
A34: 5 | B34: PILAR CIRCULAR - FORMA TUBO
A35: 5.1 | B35: SICRO 804467 | C35: Confecção de tubos de concreto armado D = 0,80 m PA1 - areia e brita comerciais | D35: m | E35: 12 | G35: =ROUND((E35*F35),2) -> 0 | H35: =G35*100/$G$60 -> #DIV/0!
A36: 5.2 | B36: SICRO 407819 | C36: Armação em aço CA-50 - fornecimento, preparo e colocação | D36: kg | E36: 839.6 | G36: =ROUND((E36*F36),2) -> 0 | H36: =G36*100/$G$60 -> #DIV/0!
A37: 5.3 | B37: COMP CP-0006 | C37: Concretagem, fck 30 mpa, com uso de bomba - lançamento, adensamento e acabamento. | D37: m³ | E37: 4.36 | G37: =ROUND((E37*F37),2) -> 0 | H37: =G37*100/$G$60 -> #DIV/0!
A38: TOTAL DO ITEM | G38: =SUM(G35:G37) -> 0 | H38: =G38*100/$G$60 -> #DIV/0!
A40: 6 | B40: VIGA TRAVESSA + CORTINA + ALA
A41: 6.1 | B41: SICRO 3108011 | C41: Fôrmas de compensado plastificado 12 mm - uso geral - utilização de 1 vez - confecção, instalação e retirada | D41: m² | E41: 75.11 | G41: =ROUND((E41*F41),2) -> 0 | H41: =G41*100/$G$60 -> #DIV/0!
A42: 6.2 | B42: SICRO 407819 | C42: Armação em aço CA-50 - fornecimento, preparo e colocação | D42: kg | E42: 2882.64 | G42: =ROUND((E42*F42),2) -> 0 | H42: =G42*100/$G$60 -> #DIV/0!
A43: 6.3 | B43: COMP CP-0006 | C43: Concretagem, fck 30 mpa, com uso de bomba - lançamento, adensamento e acabamento. | D43: m³ | E43: 15.72 | G43: =ROUND((E43*F43),2) -> 0 | H43: =G43*100/$G$60 -> #DIV/0!
A44: TOTAL DO ITEM | G44: =SUM(G41:G43) -> 0 | H44: =G44*100/$G$60 -> #DIV/0!
A46: 7 | B46: MONTAGEM PEÇAS PRÉ-MOLDADAS
A47: 7.1 | B47: SICRO 3806420 | C47: Lançamento de viga pré-moldada de até 500 kN com utilização de guindaste | D47: und | E47: 4 | G47: =ROUND((E47*F47),2) -> 0 | H47: =G47*100/$G$60 -> #DIV/0!
A48: TOTAL DO ITEM | G48: =SUM(G47:G47) -> 0 | H48: =G48*100/$G$60 -> #DIV/0!
A50: 8 | B50: ACABAMENTO
...

Sheet CRONOGRAMA FISCO-FINANCEIRO
A1: CRONOGRAMA FÍSICO-FINANCEIRO
A4: OBRA: | B4: ='PLANILHA ORÇAMENTÁRIA'!B3 -> CONTRATAÇÃO DE OBRA PREPARATÓRIA PARA INSTALAÇÃO DE UMA PONTE SOBRE O RIO DO MEIO, LOCALIZADO NA RUA IRMÃOS SOUZA, BAIRRO NOVA ROMA, MUNICÍPIO DE MORRO GRANDE/SC
A5: ='PLANILHA ORÇAMENTÁRIA'!A4 -> CE nº | B5: ='PLANILHA ORÇAMENTÁRIA'!B4 -> 4/2026/PMMG
A6: Valor Total: | B6: ='PLANILHA ORÇAMENTÁRIA'!B5 -> 0
A7: Razão Social: | B7: ='PLANILHA ORÇAMENTÁRIA'!B6 -> XXXXXXXXXXXXXXXXX
A8: CNPJ/MF: | B8: ='PLANILHA ORÇAMENTÁRIA'!B7 -> 0
A10: ITEM | B10: DISCRIMINAÇÃO | E10: PERÍODO EM MESES | I10: TOTAL
E11: MÊS 01 | G11: MÊS 02
E12: R$ | F12: % | G12: R$ | H12: % | I12: R$ | J12: %
A13: 1 | B13: ='PLANILHA ORÇAMENTÁRIA'!B11:H11 -> DEMOLIÇÃO E REMOÇÃO ESTRUTURA EXISTENTE | E13: =(I13*F13) -> 0 | F13: 1 | G13: =(I13*H13) -> 0 | H13: 0 | I13: ='PLANILHA ORÇAMENTÁRIA'!G16 -> 0 | J13: =(I13*100)/'PLANILHA ORÇAMENTÁRIA'!$G$60 -> #DIV/0!
A14: 2 | B14: ='PLANILHA ORÇAMENTÁRIA'!B18:H18 -> TERRAPLANAGEM | E14: =(I14*F14) -> 0 | F14: 0.5 | G14: =(I14*H14) -> 0 | H14: 0.5 | I14: ='PLANILHA ORÇAMENTÁRIA'!G21 -> 0 | J14: =(I14*100)/'PLANILHA ORÇAMENTÁRIA'!$G$60 -> #DIV/0!
A15: 3 | B15: ='PLANILHA ORÇAMENTÁRIA'!B23:H23 -> APARELHOS DE APOIO - NEOPREME FRETADO | E15: =(I15*F15) -> 0 | F15: 0 | G15: =(I15*H15) -> 0 | H15: 1 | I15: ='PLANILHA ORÇAMENTÁRIA'!G25 -> 0 | J15: =(I15*100)/'PLANILHA ORÇAMENTÁRIA'!$G$60 -> #DIV/0!
A16: 4 | B16: ='PLANILHA ORÇAMENTÁRIA'!B27:H27 -> BLOCO - SAPATA DE FUNDAÇÃO | E16: =(I16*F16) -> 0 | F16: 1 | G16: =(I16*H16) -> 0 | H16: 0 | I16: ='PLANILHA ORÇAMENTÁRIA'!G32 -> 0 | J16: =(I16*100)/'PLANILHA ORÇAMENTÁRIA'!$G$60 -> #DIV/0!
A17: 5 | B17: ='PLANILHA ORÇAMENTÁRIA'!B34:C34 -> PILAR CIRCULAR - FORMA TUBO | E17: =(I17*F17) -> 0 | F17: 1 | G17: =(I17*H17) -> 0 | H17: 0 | I17: ='PLANILHA ORÇAMENTÁRIA'!G38 -> 0 | J17: =(I17*100)/'PLANILHA ORÇAMENTÁRIA'!$G$60 -> #DIV/0!
A18: 6 | B18: ='PLANILHA ORÇAMENTÁRIA'!B40:C40 -> VIGA TRAVESSA + CORTINA + ALA | E18: =(I18*F18) -> 0 | F18: 0.1 | G18: =(I18*H18) -> 0 | H18: 0.9 | I18: ='PLANILHA ORÇAMENTÁRIA'!G44 -> 0 | J18: =(I18*100)/'PLANILHA ORÇAMENTÁRIA'!$G$60 -> #DIV/0!
A19: 7 | B19: =_xlfn.SINGLE('PLANILHA ORÇAMENTÁRIA'!B46) -> MONTAGEM PEÇAS PRÉ-MOLDADAS | E19: =(I19*F19) -> 0 | F19: 0 | G19: =(I19*H19) -> 0 | H19: 1 | I19: ='PLANILHA ORÇAMENTÁRIA'!G48 -> 0 | J19: =(I19*100)/'PLANILHA ORÇAMENTÁRIA'!$G$60 -> #DIV/0!
A20: 8 | B20: ='PLANILHA ORÇAMENTÁRIA'!B50:H50 -> ACABAMENTO | E20: =(I20*F20) -> 0 | F20: 0 | G20: =(I20*H20) -> 0 | H20: 1 | I20: ='PLANILHA ORÇAMENTÁRIA'!G52 -> 0 | J20: =(I20*100)/'PLANILHA ORÇAMENTÁRIA'!$G$60 -> #DIV/0!
A21: 9 | B21: ='PLANILHA ORÇAMENTÁRIA'!B54:H54 -> MOBILIZAÇÃO/DESMOBILIZAÇÃO/CANTEIRO E ADMINISTRAÇÃO | E21: =(I21*F21) -> 0 | F21: 0.5 | G21: =(I21*H21) -> 0 | H21: 0.5 | I21: ='PLANILHA ORÇAMENTÁRIA'!G58 -> 0 | J21: =(I21*100)/'PLANILHA ORÇAMENTÁRIA'!$G$60 -> #DIV/0!
B22: VALOR DA OBRA | E22: =SUM(E13:E21) -> 0 | G22: =SUM(G13:G21) -> 0 | I22: =SUM(I13:I21) -> 0 | J22: =SUM(J13:J21) -> #DIV/0!
B23: VALOR ACUMULADO | E23: =E22 -> 0 | G23: =E23+G22 -> 0 | I23: =SUM(E22,G22) -> 0
B24: PERCENTUAL DA OBRA | E24: =(E22*100/$I$22) -> #DIV/0! | G24: =(G22*100/$I$22) -> #DIV/0!
B25: SOMATÓRIO ACUMULADO % | E25: =E23*100/$I$22 -> #DIV/0! | G25: =SUM(E25+G24) -> #DIV/0!

Sheet BDI
A1: QUADRO DE COMPOSIÇÃO DO BDI
A2: ='PLANILHA ORÇAMENTÁRIA'!A3 -> OBRA: | B2: ='PLANILHA ORÇAMENTÁRIA'!B3:H3 -> CONTRATAÇÃO DE OBRA PREPARATÓRIA PARA INSTALAÇÃO DE UMA PONTE SOBRE O RIO DO MEIO, LOCALIZADO NA RUA IRMÃOS SOUZA, BAIRRO NOVA ROMA, MUNICÍPIO DE MORRO GRANDE/SC
A3: ='PLANILHA ORÇAMENTÁRIA'!A4 -> CE nº | B3: ='PLANILHA ORÇAMENTÁRIA'!B4 -> 4/2026/PMMG
A4: ='PLANILHA ORÇAMENTÁRIA'!A5 -> Valor Total: | B4: ='PLANILHA ORÇAMENTÁRIA'!B5:H5 -> 0
A5: ='PLANILHA ORÇAMENTÁRIA'!A6 -> Razão Social: | B5: ='PLANILHA ORÇAMENTÁRIA'!B6 -> XXXXXXXXXXXXXXXXX
A6: ='PLANILHA ORÇAMENTÁRIA'!A7 -> CNPJ/MF: | B6: ='PLANILHA ORÇAMENTÁRIA'!B7 -> 0
A8: Item | B8: Descrição Análitica | J8: Siglas | K8: % Adotado
A9: 1 | B9: Administração Central | J9: AC
A10: 2 | B10: Seguro e Garantia | J10: S + G
A11: 3 | B11: Risco | J11: R
A12: 4 | B12: Despesas Financeiras | J12: DF
A13: 5 | B13: Lucro | J13: L
A14: 6 | B14: Tributos (impostos: COFINS 3% e PIS 0,65%) | J14: CP
A15: 7 | B15: Tributos (ISS) | J15: ISS
A16: 8 | B16: Tributos (Contribuição Previdenciária sobre a Receita Bruta) | J16: CPRB
A17: 9 | B17: BDI COM desoneração (Fórmula Acórdão TCU) | J17: BDI PAD | K17: =((1+K9+K10+K11) * (1+K12) * (1+K13)) / (1-K14-K15-K16) -1 -> 0
A18: FORMULA - ACÓRDÃO TCU 2.622/2013

Sheet ENCARGOS SOCIAIS
A1: DEMOSTRATIVO DA TAXA DE ENCARGOS SOCIAIS
A2: OBRA: | B2: ='PLANILHA ORÇAMENTÁRIA'!B3:H3 -> CONTRATAÇÃO DE OBRA PREPARATÓRIA PARA INSTALAÇÃO DE UMA PONTE SOBRE O RIO DO MEIO, LOCALIZADO NA RUA IRMÃOS SOUZA, BAIRRO NOVA ROMA, MUNICÍPIO DE MORRO GRANDE/SC
A3: ='PLANILHA ORÇAMENTÁRIA'!A4 -> CE nº | B3: ='PLANILHA ORÇAMENTÁRIA'!B4:H4 -> 4/2026/PMMG
A4: Razão Social: | B4: ='PLANILHA ORÇAMENTÁRIA'!B6 -> XXXXXXXXXXXXXXXXX
A5: CNPJ/MF: | B5: ='PLANILHA ORÇAMENTÁRIA'!B7 -> 0
A7: Encargos Sociais | J7: Instrução de Serviços DG nº 03/2012
A8: GRUPO A | B8: PREVIDENCIA SOCIAL | J8: 0
B9: FUNDO DE GARANTIA POR TEMPO DE SERVIÇO | J9: 0
B10: SALARIO EDUCAÇÃO | J10: 0
B11: SERVIÇO DA INDUSTRIA - SESI | J11: 0
B12: SERVIÇO NACIONAL DE APRENDIZAGEM INDUSTRIAL | J12: 0
B13: SERVIÇO DE APOIO A PEQUENA E MEDIA EMPRESA | J13: 0
B14: INSTITUTO NACIONAL DE COLONIZAÇÃO E REFORMA AGRATIA - INCRA | J14: 0
B15: SEGURO CONTRA OS ACIDENTES DE TRABALHO | J15: 0
B16: SERVIÇO SOCIAL DA INDUSTRIA DA CONSTRUÇÃO E DO MOBILIARIO - SECONCI | J16: 0
B17: Sub-Total Grupo A | J17: =SUM(J8:J16) -> 0
A18: GRUPO B | B18: REPOUSO SEMANAL E FERIADOS | J18: 0
B19: AUXILIO - ENFERMIDADE | J19: 0
B20: LICENÇA PATERNIDADE | J20: 0
B21: 13º SALARIO | J21: 0
B22: DIAS DE CHUVA, FALTAS, JUSTIFICATIVAS, ACIDENTES DE TRABALHO, OUTRAS PARALIZAÇÕES | J22: 0
B23: Sub-Total Grupo B | J23: =SUM(J18:J22) -> 0
A24: GRUPO C | B24: DEPOSITO POR DESPEDIDA INJUSTA | J24: 0
B25: AVISO PREVIO INDENIZADO | J25: 0
B26: FÉRIAS INDENIZADAS | J26: 0
B27: Sub-Total Grupo C | J27: =SUM(J24:J26) -> 0
A28: GRUPO D | B28: REINCIDENCIA DO GRUPO (A) SOBRE O GRUPO (B) | J28: 0
B29: REINCIDENCIA DO FGTS SOBRE O AVISO PREVIO | J29: 0
B30: Sub-Total Grupo D | J30: =SUM(J28:J29) -> 0
A31: GRUPO E | B31: ENCARGOS INTERSINDICAIS | J31: 0
B32: Sub-Total Grupo E | J32: =SUM(J31) -> 0
A33: TOTAL GERAL | J33: =J17+J23+J27+J30+J32 -> 0
