Workbook
Name BDI: 1+(INDEX(#REF!,ROW())/100)
Name BDI: 1+(INDEX(#REF!,ROW())/100)
Name ContraPart1: #REF!-SUMIF(#REF!,">=0",#REF!)
Name ContraPart1: #REF!-SUMIF(#REF!,">=0",#REF!)
Name ContraPart2: MAX(#REF!-SUM(#REF!),0)
Name ContraPart2: MAX(#REF!-SUM(#REF!),0)
Name Item: INDEX(#REF!,ROW())
Name Item: INDEX(#REF!,ROW())
Name ListaNomes: #REF!
Name ListaNomes: #REF!
Name Macroitem: INDEX(#REF!,ROW())
Name Macroitem: INDEX(#REF!,ROW())
Name Macroitem1: INDEX(#REF!,ROW())
Name Macroitem1: INDEX(#REF!,ROW())
Name Macroitem2: INDEX(#REF!,ROW())
Name Macroitem2: INDEX(#REF!,ROW())
Name Macroitem3: INDEX(#REF!,ROW())
Name Macroitem3: INDEX(#REF!,ROW())
Name MacroitemAc: INDEX(#REF!,ROW())
Name MacroitemAc: INDEX(#REF!,ROW())
Name MacroitemPer: INDEX(#REF!,ROW())
Name MacroitemPer: INDEX(#REF!,ROW())
Name MacroitemRet: INDEX(#REF!,ROW())
Name MacroitemRet: INDEX(#REF!,ROW())
Name matriz: #REF!
Name matriz: #REF!
Name matriz2: #REF!
Name matriz2: #REF!
Name Medicao1: INDEX(#REF!,ROW())
Name Medicao1: INDEX(#REF!,ROW())
Name Quantidade: INDEX(#REF!,ROW())
Name Quantidade: INDEX(#REF!,ROW())
Name Quantidade1: INDEX(#REF!,ROW())
Name Quantidade1: INDEX(#REF!,ROW())
Name Quantidade2: INDEX(#REF!,ROW())
Name Quantidade2: INDEX(#REF!,ROW())
Name Quantidade3: INDEX(#REF!,ROW())
Name Quantidade3: INDEX(#REF!,ROW())
Name QuantidadeAc: SUM(OFFSET('BDI 2'!Medicao1,0,0,1,#REF!))
Name QuantidadeAc: SUM(OFFSET([0]!Medicao1,0,0,1,#REF!))
Name QuantidadePeriodo: INDEX('BDI 2'!TabMedicao,ROW(),#REF!)
Name QuantidadePeriodo: INDEX([0]!TabMedicao,ROW(),#REF!)
Name Registro: IF(INDIRECT(ADDRESS(ROW()-1,COLUMN()))=#REF!,#REF!,IF(INDIRECT(ADDRESS(ROW()-1,COLUMN()))=#REF!,#REF!,IF(INDIRECT(ADDRESS(ROW()-1,COLUMN()))=#REF!,#REF!,"")))
Name Registro: IF(INDIRECT(ADDRESS(ROW()-1,COLUMN()))=#REF!,#REF!,IF(INDIRECT(ADDRESS(ROW()-1,COLUMN()))=#REF!,#REF!,IF(INDIRECT(ADDRESS(ROW()-1,COLUMN()))=#REF!,#REF!,"")))
Name ResParcial: OFFSET('BDI 2'!Subitem,0,0,MATCH(VLOOKUP("Macroitem",'BDI 2'!TabAux,1,FALSE),'BDI 2'!TabAux,0),1)
Name ResParcial: OFFSET([0]!Subitem,0,0,MATCH(VLOOKUP("Macroitem",[0]!TabAux,1,FALSE),[0]!TabAux,0),1)
Name ResParcial1: OFFSET('BDI 2'!Subitem1,0,0,MATCH(VLOOKUP("Macroitem",'BDI 2'!TabAux,1,FALSE),'BDI 2'!TabAux,0),1)
Name ResParcial1: OFFSET([0]!Subitem1,0,0,MATCH(VLOOKUP("Macroitem",[0]!TabAux,1,FALSE),[0]!TabAux,0),1)
Name ResParcial2: OFFSET('BDI 2'!Subitem2,0,0,MATCH(VLOOKUP("Macroitem",'BDI 2'!TabAux,1,FALSE),'BDI 2'!TabAux,0),1)
Name ResParcial2: OFFSET([0]!Subitem2,0,0,MATCH(VLOOKUP("Macroitem",[0]!TabAux,1,FALSE),[0]!TabAux,0),1)
Name ResParcial3: OFFSET('BDI 2'!Subitem3,0,0,MATCH(VLOOKUP("Macroitem",'BDI 2'!TabAux,1,FALSE),'BDI 2'!TabAux,0),1)
Name ResParcial3: OFFSET([0]!Subitem3,0,0,MATCH(VLOOKUP("Macroitem",[0]!TabAux,1,FALSE),[0]!TabAux,0),1)
Name ResParcialAc: OFFSET('BDI 2'!SubitemAc,0,0,MATCH(VLOOKUP("Macroitem",'BDI 2'!TabAux,1,FALSE),'BDI 2'!TabAux,0),1)
Name ResParcialAc: OFFSET([0]!SubitemAc,0,0,MATCH(VLOOKUP("Macroitem",[0]!TabAux,1,FALSE),[0]!TabAux,0),1)
Name ResParcialPer: OFFSET('BDI 2'!SubitemPer,0,0,MATCH(VLOOKUP("Macroitem",'BDI 2'!TabAux,1,FALSE),'BDI 2'!TabAux,0),1)
Name ResParcialPer: OFFSET([0]!SubitemPer,0,0,MATCH(VLOOKUP("Macroitem",[0]!TabAux,1,FALSE),[0]!TabAux,0),1)
Name ResParcialRet: OFFSET('BDI 2'!SubitemRet,0,0,MATCH(VLOOKUP("Macroitem",'BDI 2'!TabAux,1,FALSE),'BDI 2'!TabAux,0),1)
Name ResParcialRet: OFFSET([0]!SubitemRet,0,0,MATCH(VLOOKUP("Macroitem",[0]!TabAux,1,FALSE),[0]!TabAux,0),1)
Name Subitem: INDEX(#REF!,ROW())
Name Subitem: INDEX(#REF!,ROW())

Sheet PLANILHA ORÇAMENTÁRIA
A1: PLANILHA QUANTITATIVA E ORÇAMENTÁRIA
A3: OBRA: | B3: XXXXXXXXXXXXXX
A4: CE nº | B4: 1/2025/PMMG
A5: Valor Total: | B5: =G58 -> 0
A6: Razão Social: | B6: XXXXXXXXXXXXXXXXX
A7: CNPJ/MF: | B7: XXXXXXXXXXXXXXXXX
A9: ITEM | B9: FONTE | C9: ITENS DE SERVIÇO | D9: Unidade | E9: Quantidade | F9: Preço Unitário Com BDI (R$) | G9: Preço Total Com BDI (R$) | H9: %
A11: 1 | B11: SERVIÇOS INICIAIS
A12: 1.1 | B12: SINAPI 103689 | C12: FORNECIMENTO E INSTALAÇÃO DE PLACA DE OBRA COM CHAPA GALVANIZADA E ESTRUTURA DE MADEIRA. AF_03/2022_PS | D12: m² | E12: 2.25 | G12: =ROUND((E12*F12),2) -> 0 | H12: =G12*100/$G$58 -> #DIV/0!
A13: TOTAL DO ITEM | G13: =SUM(G12:G12) -> 0 | H13: =G13*100/$G$58 -> #DIV/0!
A15: 2 | B15: DRENAGEM PLUVIAL
A16: 2.1 | B16: SICRO 2003477 | C16: Caixa coletora de sarjeta - CCS 200-60 A - com grelha de concreto - areia e brita comerciais | D16: un | E16: 4 | G16: =ROUND((E16*F16),2) -> 0 | H16: =G16*100/$G$58 -> #DIV/0!
A17: 2.2 | B17: SICRO 2003281 | C17: Sarjeta triangular de concreto - STC 100-21 - escavação mecânica - areia e brita comerciais | D17: m | E17: 488 | G17: =ROUND((E17*F17),2) -> 0 | H17: =G17*100/$G$58 -> #DIV/0!
A18: 2.3 | B18: SINAPI 102329 | C18: ESCAVAÇÃO MECANIZADA DE VALA COM PROF. MAIOR QUE 1,5 M ATÉ 3,0 M (MÉDIA MONTANTE E JUSANTE/UMA COMPOSIÇÃO POR TRECHO), RETROESCAV. (0,26 M3), LARG. DE 0,8 M A 1,5 M, EM SOLO DE 2A CATEGORIA, EM LOCAIS COM BAIXO NÍVEL DE INTERFERÊNCIA. AF_09/2024 | D18: m³ | E18: 48 | G18: =ROUND((E18*F18),2) -> 0 | H18: =G18*100/$G$58 -> #DIV/0!
A19: 2.4 | B19: SINAPI 104736 | C19: REATERRO MECANIZADO DE VALA COM RETROESCAVADEIRA (CAPACIDADE DA CAÇAMBA DA RETRO: 0,26 M³/POTÊNCIA: 88 HP), LARGURA DE 0,8 A 1,5 M, PROFUNDIDADE DE 1,5 A 3,0 M, COM SOLO (SEM SUBSTITUIÇÃO) DE 1ª CATEGORIA, COM PLACA VIBRATÓRIA. AF_08/2023 | D19: m³ | E19: 41.9 | G19: =ROUND((E19*F19),2) -> 0 | H19: =G19*100/$G$58 -> #DIV/0!
A20: 2.5 | B20: SINAPI 102713 | C20: GEOTÊXTIL NÃO TECIDO 100% POLIÉSTER, RESISTÊNCIA A TRAÇÃO DE 14 KN/M (RT - 14), INSTALADO EM DRENO - FORNECIMENTO E INSTALAÇÃO. AF_07/2021 | D20: m² | E20: 36.73 | G20: =ROUND((E20*F20),2) -> 0 | H20: =G20*100/$G$58 -> #DIV/0!
A21: 2.6 | B21: SINAPI 92808 | C21: ASSENTAMENTO DE TUBO DE CONCRETO PARA REDES COLETORAS DE ÁGUAS PLUVIAIS, DIÂMETRO DE 300 MM, JUNTA RÍGIDA, INSTALADO EM LOCAL COM BAIXO NÍVEL DE INTERFERÊNCIAS (NÃO INCLUI FORNECIMENTO). AF_03/2024 | D21: m | E21: 60 | G21: =ROUND((E21*F21),2) -> 0 | H21: =G21*100/$G$58 -> #DIV/0!
A22: 2.7 | B22: SINAPI 37450 | C22: TUBO DE CONCRETO SIMPLES PARA AGUAS PLUVIAIS, CLASSE PS1, COM ENCAIXE MACHO E FEMEA, DIAMETRO NOMINAL DE 300 MM | D22: m | E22: 60 | G22: =ROUND((E22*F22),2) -> 0 | H22: =G22*100/$G$58 -> #DIV/0!
A23: 2.8 | B23: SINAPI 97096 | C23: CONCRETAGEM DE RADIER, PISO DE CONCRETO OU LAJE SOBRE SOLO, FCK 30 MPA - LANÇAMENTO, ADENSAMENTO E ACABAMENTO. AF_09/2021 | D23: m³ | E23: 3 | G23: =ROUND((E23*F23),2) -> 0 | H23: =G23*100/$G$58 -> #DIV/0!
A24: 2.9 | B24: SINAPI 97088 | C24: ARMAÇÃO PARA EXECUÇÃO DE RADIER, PISO DE CONCRETO OU LAJE SOBRE SOLO, COM USO DE TELA Q-92. AF_09/2021 | D24: kg | E24: 44.4 | G24: =ROUND((E24*F24),2) -> 0 | H24: =G24*100/$G$58 -> #DIV/0!
A25: TOTAL DO ITEM | G25: =SUM(G16:G24) -> 0 | H25: =G25*100/$G$58 -> #DIV/0!
A27: 3 | B27: PAVIMENTAÇÃO
A28: 3.1 | B28: SINAPI 100576 | C28: REGULARIZAÇÃO E COMPACTAÇÃO DE SUBLEITO DE SOLO PREDOMINANTEMENTE ARGILOSO, PARA OBRAS DE CONSTRUÇÃO DE PAVIMENTOS. AF_09/2024 | D28: m² | E28: 16226.56 | G28: =ROUND((E28*F28),2) -> 0 | H28: =G28*100/$G$58 -> #DIV/0!
A29: 3.2 | B29: Composição 01 | C29: CONSTRUÇÃO DE BASE E SUB-BASE PARA PAVIMENTAÇÃO DE SEIXO ROLADO (GRANULOMETRIA DE 0 A 5") - EXCLUSIVE CARGA E TRANSPORTE | D29: m³ | E29: 3367.01 | G29: =ROUND((E29*F29),2) -> 0 | H29: =G29*100/$G$58 -> #DIV/0!
A30: 3.3 | B30: SINAPI 95876 | C30: TRANSPORTE COM CAMINHÃO BASCULANTE DE 14 M³, EM VIA URBANA PAVIMENTADA, DMT ATÉ 30 KM (UNIDADE: M3XKM). AF_07/2020 | D30: m³xkm | E30: 56229.07 | G30: =ROUND((E30*F30),2) -> 0 | H30: =G30*100/$G$58 -> #DIV/0!
A31: 3.4 | B31: Composição 04 | C31: CONSTRUÇÃO DE BASE E SUB-BASE PARA PAVIMENTAÇÃO DE BRITA GRADUADA SIMPLES, COM ESPESSURA DE 15 CM - EXCLUSIVE CARGA E TRANSPORTE. AF_09/2024 (REFERÊNCIA SINAPI 96396) | D31: m³ | E31: 2474.55 | G31: =ROUND((E31*F31),2) -> 0 | H31: =G31*100/$G$58 -> #DIV/0!
A32: 3.5 | B32: SINAPI 95876 | C32: TRANSPORTE COM CAMINHÃO BASCULANTE DE 14 M³, EM VIA URBANA PAVIMENTADA, DMT ATÉ 30 KM (UNIDADE: M3XKM). AF_07/2020 | D32: m³xkm | E32: 49589.98 | G32: =ROUND((E32*F32),2) -> 0 | H32: =G32*100/$G$58 -> #DIV/0!
A33: 3.6 | B33: SICRO 4011351 | C33: Imprimação com asfalto diluído | D33: m² | E33: 14198.24 | G33: =ROUND((E33*F33),2) -> 0 | H33: =G33*100/$G$58 -> #DIV/0!
A34: 3.7 | B34: Cotação 06 | C34: IMPRIMA (EMULSAO ASFALTICA PARA IMPRIMACAO) | D34: ton | E34: 17.04 | G34: =ROUND((E34*F34),2) -> 0 | H34: =G34*100/$G$58 -> #DIV/0!
A35: 3.8 | B35: SINAPI 102330 | C35: TRANSPORTE COM CAMINHÃO TANQUE DE TRANSPORTE DE MATERIAL ASFÁLTICO DE 30000 L, EM VIA URBANA PAVIMENTADA, DMT ATÉ 30KM (UNIDADE: TXKM). AF_07/2020 | D35: txkm | E35: 511.2 | G35: =ROUND((E35*F35),2) -> 0 | H35: =G35*100/$G$58 -> #DIV/0!
A36: 3.9 | B36: SINAPI 102331 | C36: TRANSPORTE COM CAMINHÃO TANQUE DE TRANSPORTE DE MATERIAL ASFÁLTICO DE 30000 L, EM VIA URBANA PAVIMENTADA, ADICIONAL PARA DMT EXCEDENTE A 30 KM (UNIDADE: TXKM). AF_07/2020 | D36: txkm | E36: 127.8 | G36: =ROUND((E36*F36),2) -> 0 | H36: =G36*100/$G$58 -> #DIV/0!
A37: 3.10 | B37: SICRO 4011353 | C37: Pintura de ligação | D37: m² | E37: 14198.24 | G37: =ROUND((E37*F37),2) -> 0 | H37: =G37*100/$G$58 -> #DIV/0!
A38: 3.11 | B38: Cotação 03 | C38: EMULSÃO ASFÁLTICA RR 1C | D38: ton | E38: 12.78 | G38: =ROUND((E38*F38),2) -> 0 | H38: =G38*100/$G$58 -> #DIV/0!
A39: 3.12 | B39: SINAPI 102330 | C39: TRANSPORTE COM CAMINHÃO TANQUE DE TRANSPORTE DE MATERIAL ASFÁLTICO DE 30000 L, EM VIA URBANA PAVIMENTADA, DMT ATÉ 30KM (UNIDADE: TXKM). AF_07/2020 | D39: txkm | E39: 383.4 | G39: =ROUND((E39*F39),2) -> 0 | H39: =G39*100/$G$58 -> #DIV/0!
... A43: 3.16 | B43: SINAPI 93590 | C43: TRANSPORTE COM CAMINHÃO BASCULANTE DE 10 M³, EM VIA URBANA PAVIMENTADA, ADICIONAL PARA DMT EXCEDENTE A 30 KM (UNIDADE: M3XKM). AF_07/2020 | D43: m³xkm | E43: 5324.33 | G43: =ROUND((E43*F43),2) -> 0 | H43: =G43*100/$G$58 -> #DIV/0!
A44: TOTAL DO ITEM | G44: =SUM(G28:G43) -> 0 | H44: =G44*100/$G$58 -> #DIV/0!
A46: 4 | B46: SINALIZAÇÃO
A47: 4.1 | B47: SINAPI 102512 | C47: PINTURA DE EIXO VIÁRIO SOBRE ASFALTO COM TINTA RETRORREFLETIVA A BASE DE RESINA ACRÍLICA COM MICROESFERAS DE VIDRO, E = 10 CM, APLICAÇÃO MECÂNICA COM DEMARCADORA AUTOPROPELIDA. AF_05/2021 | D47: m | E47: 6245 | G47: =ROUND((E47*F47),2) -> 0 | H47: =G47*100/$G$58 -> #DIV/0!
A48: 4.2 | B48: SICRO 5219606 | C48: Tacha refletiva em plástico injetado - bidirecional tipo II - com um pino - fornecimento e colocação | D48: un | E48: 681 | G48: =ROUND((E48*F48),2) -> 0 | H48: =G48*100/$G$58 -> #DIV/0!
A49: 4.3 | B49: SICRO 5213441 | C49: Placa de regulamentação em aço D = 0,80 m - película retrorrefletiva tipo I + SI - fornecimento e implantação | D49: un | E49: 16 | G49: =ROUND((E49*F49),2) -> 0 | H49: =G49*100/$G$58 -> #DIV/0!
...

Sheet CRONOGRAMA FISCO-FINANCEIRO
A1: CRONOGRAMA FÍSICO-FINANCEIRO
A4: OBRA: | B4: ='PLANILHA ORÇAMENTÁRIA'!B3 -> XXXXXXXXXXXXXX
A5: ='PLANILHA ORÇAMENTÁRIA'!A4 -> CE nº | B5: ='PLANILHA ORÇAMENTÁRIA'!B4 -> 1/2025/PMMG
A6: Valor Total: | B6: ='PLANILHA ORÇAMENTÁRIA'!B5:H5 -> 0
A7: Razão Social: | B7: ='PLANILHA ORÇAMENTÁRIA'!B6 -> XXXXXXXXXXXXXXXXX
A8: CNPJ/MF: | B8: ='PLANILHA ORÇAMENTÁRIA'!B7 -> XXXXXXXXXXXXXXXXX
A10: ITEM | B10: DISCRIMINAÇÃO | E10: PERÍODO EM MESES
E11: MÊS 01 | G11: MÊS 02 | I11: MÊS 03 | K11: MÊS 04 | M11: TOTAL
E12: R$ | F12: % | G12: R$ | H12: % | I12: R$ | J12: % | K12: R$ | L12: % | M12: R$ | N12: %
A13: 1 | B13: ='PLANILHA ORÇAMENTÁRIA'!B11:H11 -> SERVIÇOS INICIAIS | E13: =(M13*F13) -> 0 | F13: 1 | G13: =(M13*H13) -> 0 | H13: 0 | I13: =(M13*J13) -> 0 | J13: 0 | K13: =(M13*L13) -> 0 | L13: 0 | M13: ='PLANILHA ORÇAMENTÁRIA'!G13 -> 0 | N13: =M13*$N$17/$M$17 -> #DIV/0!
A14: 2 | B14: ='PLANILHA ORÇAMENTÁRIA'!B15:H15 -> DRENAGEM PLUVIAL | E14: =(M14*F14) -> 0 | F14: 0 | G14: =(M14*H14) -> 0 | H14: 0 | I14: =(M14*J14) -> 0 | J14: 0.5 | K14: =(M14*L14) -> 0 | L14: 0.5 | M14: ='PLANILHA ORÇAMENTÁRIA'!G25 -> 0 | N14: =M14*$N$17/$M$17 -> #DIV/0!
A15: 3 | B15: ='PLANILHA ORÇAMENTÁRIA'!B27:H27 -> PAVIMENTAÇÃO | E15: =(M15*F15) -> 0 | F15: 0.25 | G15: =(M15*H15) -> 0 | H15: 0.25 | I15: =(M15*J15) -> 0 | J15: 0.25 | K15: =(M15*L15) -> 0 | L15: 0.25 | M15: ='PLANILHA ORÇAMENTÁRIA'!G44 -> 0 | N15: =M15*$N$17/$M$17 -> #DIV/0!
A16: 4 | B16: ='PLANILHA ORÇAMENTÁRIA'!B46:H46 -> SINALIZAÇÃO | E16: =(M16*F16) -> 0 | F16: 0 | G16: =(M16*H16) -> 0 | H16: 0 | I16: =(M16*J16) -> 0 | J16: 0.5 | K16: =(M16*L16) -> 0 | L16: 0.5 | M16: ='PLANILHA ORÇAMENTÁRIA'!G56 -> 0 | N16: =M16*$N$17/$M$17 -> #DIV/0!
B17: VALOR DA OBRA | E17: =SUM(E13:E16) -> 0 | G17: =SUM(G13:G16) -> 0 | I17: =SUM(I13:I16) -> 0 | K17: =SUM(K13:K16) -> 0 | M17: =SUM(M13:M16) -> 0 | N17: 100
B18: VALOR ACUMULADO | E18: =E17 -> 0 | G18: =E18+G17 -> 0 | I18: =G18+I17 -> 0 | K18: =I18+K17 -> 0 | M18: =SUM(E17,G17,I17,K17) -> 0
B19: PERCENTUAL DA OBRA | E19: =(E17*100/$M$17) -> #DIV/0! | G19: =(G17*100/$M$17) -> #DIV/0! | I19: =(I17*100/$M$17) -> #DIV/0! | K19: =(K17*100/$M$17) -> #DIV/0!
B20: SOMATÓRIO ACUMULADO % | E20: =E18*100/$M$17 -> #DIV/0! | G20: =SUM(E20+G19) -> #DIV/0! | I20: =SUM(G20+I19) -> #DIV/0! | K20: =SUM(I20+K19) -> #DIV/0!

Sheet BDI 1
A1: QUADRO DE COMPOSIÇÃO DO BDI 1
A2: ='PLANILHA ORÇAMENTÁRIA'!A3 -> OBRA: | B2: ='PLANILHA ORÇAMENTÁRIA'!B3:H3 -> XXXXXXXXXXXXXX
A3: ='PLANILHA ORÇAMENTÁRIA'!A4 -> CE nº | B3: ='PLANILHA ORÇAMENTÁRIA'!B4 -> 1/2025/PMMG
A4: ='PLANILHA ORÇAMENTÁRIA'!A5 -> Valor Total: | B4: ='PLANILHA ORÇAMENTÁRIA'!B5:H5 -> 0
A5: ='PLANILHA ORÇAMENTÁRIA'!A6 -> Razão Social: | B5: ='PLANILHA ORÇAMENTÁRIA'!B6 -> XXXXXXXXXXXXXXXXX
A6: ='PLANILHA ORÇAMENTÁRIA'!A7 -> CNPJ/MF: | B6: ='PLANILHA ORÇAMENTÁRIA'!B7 -> XXXXXXXXXXXXXXXXX
A8: Item | B8: Descrição Análitica | J8: Siglas | K8: % Adotado
A9: 1 | B9: Administração Central | J9: AC | K9: 0.0401
A10: 2 | B10: Seguro e Garantia | J10: S + G | K10: 0.004
A11: 3 | B11: Risco | J11: R | K11: 0.0056
A12: 4 | B12: Despesas Financeiras | J12: DF | K12: 0.0111
A13: 5 | B13: Lucro | J13: L | K13: 0.073
A14: 6 | B14: Tributos (impostos: COFINS 3% e PIS 0,65%) | J14: CP | K14: 0.0365
A15: 7 | B15: Tributos (ISS) | J15: ISS | K15: 0.02
A16: 8 | B16: Tributos (Contribuição Previdenciária sobre a Receita Bruta) | J16: CPRB | K16: 0
A17: 9 | B17: BDI COM desoneração (Fórmula Acórdão TCU) | J17: BDI PAD | K17: =((1+K9+K10+K11) * (1+K12) * (1+K13)) / (1-K14-K15-K16) -1 -> 0.20702739
A18: FORMULA - ACÓRDÃO TCU 2.622/2013

Sheet BDI 2
A1: QUADRO DE COMPOSIÇÃO DO BDI 2
A2: ='PLANILHA ORÇAMENTÁRIA'!A3 -> OBRA: | B2: ='PLANILHA ORÇAMENTÁRIA'!B3:H3 -> XXXXXXXXXXXXXX
A3: ='PLANILHA ORÇAMENTÁRIA'!A4 -> CE nº | B3: ='PLANILHA ORÇAMENTÁRIA'!B4 -> 1/2025/PMMG
A4: ='PLANILHA ORÇAMENTÁRIA'!A5 -> Valor Total: | B4: ='PLANILHA ORÇAMENTÁRIA'!B5:H5 -> 0
A5: ='PLANILHA ORÇAMENTÁRIA'!A6 -> Razão Social: | B5: ='PLANILHA ORÇAMENTÁRIA'!B6 -> XXXXXXXXXXXXXXXXX
A6: ='PLANILHA ORÇAMENTÁRIA'!A7 -> CNPJ/MF: | B6: ='PLANILHA ORÇAMENTÁRIA'!B7 -> XXXXXXXXXXXXXXXXX
A8: Item | B8: Descrição Análitica | J8: Siglas | K8: % Adotado
A9: 1 | B9: Administração Central | J9: AC | K9: 0.025
A10: 2 | B10: Seguro e Garantia | J10: S + G | K10: 0.004
A11: 3 | B11: Risco | J11: R | K11: 0.0084
A12: 4 | B12: Despesas Financeiras | J12: DF | K12: 0.0085
A13: 5 | B13: Lucro | J13: L | K13: 0.05
A14: 6 | B14: Tributos (impostos: COFINS 3% e PIS 0,65%) | J14: CP | K14: 0.0365
A15: 7 | B15: Tributos (ISS) | J15: ISS | K15: 0.02
A16: 8 | B16: Tributos (Contribuição Previdenciária sobre a Receita Bruta) | J16: CPRB | K16: 0
A17: 9 | B17: BDI COM desoneração (Fórmula Acórdão TCU) | J17: BDI PAD | K17: =((1+K9+K10+K11) * (1+K12) * (1+K13)) / (1-K14-K15-K16) -1 -> 0.16431245
A18: FORMULA - ACÓRDÃO TCU 2.622/2013

Sheet ENCARGOS SOCIAIS
A1: DEMOSTRATIVO DA TAXA DE ENCARGOS SOCIAIS
A2: OBRA: | B2: ='PLANILHA ORÇAMENTÁRIA'!B3:H3 -> XXXXXXXXXXXXXX
A3: ='PLANILHA ORÇAMENTÁRIA'!A4 -> CE nº | B3: ='PLANILHA ORÇAMENTÁRIA'!B4:H4 -> 1/2025/PMMG
A4: Razão Social: | B4: ='PLANILHA ORÇAMENTÁRIA'!B6 -> XXXXXXXXXXXXXXXXX
A5: CNPJ/MF: | B5: ='PLANILHA ORÇAMENTÁRIA'!B7 -> XXXXXXXXXXXXXXXXX
A7: Encargos Sociais | J7: Instrução de Serviços DG nº 03/2012
A8: GRUPO A | B8: PREVIDENCIA SOCIAL | J8: 0
B9: FUNDO DE GARANTIA POR TEMPO DE SERVIÇO | J9: 0
B10: SALARIO EDUCAÇÃO | J10: 0
B11: SERVIÇO DA INDUSTRIA - SESI | J11: 0
B12: SERVIÇO NACIONAL DE APRENDIZAGEM INDUSTRIAL | J12: 0
B13: SERVIÇO DE APOIO A PEQUENA E MEDIA EMPRESA | J13: 0
B14: INSTITUTO NACIONAL DE COLONIZAÇÃO E REFORMA AGRATIA - INCRA | J14: 0
B15: SEGURO CONTRA OS ACIDENTES DE TRABALHO | J15: 0
B16: SERVIÇO SOCIAL DA INDUSTRIA DA CONSTRUÇÃO E DO MOBILIARIO - SECONCI | J16: 0
B17: Sub-Total Grupo A | J17: =SUM(J8:J16) -> 0
A18: GRUPO B | B18: REPOUSO SEMANAL E FERIADOS | J18: 0
B19: AUXILIO - ENFERMIDADE | J19: 0
B20: LICENÇA PATERNIDADE | J20: 0
B21: 13º SALARIO | J21: 0
B22: DIAS DE CHUVA, FALTAS, JUSTIFICATIVAS, ACIDENTES DE TRABALHO, OUTRAS PARALIZAÇÕES | J22: 0
B23: Sub-Total Grupo B | J23: =SUM(J18:J22) -> 0
A24: GRUPO C | B24: DEPOSITO POR DESPEDIDA INJUSTA | J24: 0
B25: AVISO PREVIO INDENIZADO | J25: 0
B26: FÉRIAS INDENIZADAS | J26: 0
B27: Sub-Total Grupo C | J27: =SUM(J24:J26) -> 0
A28: GRUPO D | B28: REINCIDENCIA DO GRUPO (A) SOBRE O GRUPO (B) | J28: 0
B29: REINCIDENCIA DO FGTS SOBRE O AVISO PREVIO | J29: 0
B30: Sub-Total Grupo D | J30: =SUM(J28:J29) -> 0
A31: GRUPO E | B31: ENCARGOS INTERSINDICAIS | J31: 0
B32: Sub-Total Grupo E | J32: =SUM(J31) -> 0
A33: TOTAL GERAL | J33: =J17+J23+J27+J30+J32 -> 0
